BEGIN:VCALENDAR
VERSION:2.0
PRODID:-//wp-events-plugin.com//7.2.3.1//EN
TZID:Australia/Sydney
X-WR-TIMEZONE:Australia/Sydney
BEGIN:VEVENT
UID:2631@unswoc.org
DTSTART;TZID=Australia/Sydney:20200314T100000
DTEND;TZID=Australia/Sydney:20200314T130000
DTSTAMP:20200313T123248Z
URL:https://unswoc.org/wordpress/events/whitewater-kayaking-at-penrith/
SUMMARY:Whitewater Kayaking at Penrith
DESCRIPTION:Hey guys\,\n\nThis is a trip for intermidiate paddlers that hav
 e already shown the leaders they can roll.\n\nPenrith Whitewater at 10am o
 n Saturday March the 14th.\n\n&nbsp\;
CATEGORIES:Whitewater Kayaking
END:VEVENT
BEGIN:VTIMEZONE
TZID:Australia/Sydney
X-LIC-LOCATION:Australia/Sydney
BEGIN:DAYLIGHT
DTSTART:20191006T030000
TZOFFSETFROM:+1000
TZOFFSETTO:+1100
TZNAME:AEDT
END:DAYLIGHT
END:VTIMEZONE
END:VCALENDAR