BEGIN:VCALENDAR
VERSION:2.0
PRODID:-//wp-events-plugin.com//7.2.3.1//EN
TZID:Australia/Sydney
X-WR-TIMEZONE:Australia/Sydney
BEGIN:VEVENT
UID:2468@unswoc.org
DTSTART;TZID=Australia/Sydney:20190921T090000
DTEND;TZID=Australia/Sydney:20190921T140000
DTSTAMP:20190918T054001Z
URL:https://unswoc.org/wordpress/events/whitewater-at-penrith/
SUMMARY:Whitewater at Penrith
DESCRIPTION:Ahoy there!\n\nAidan and I will be running a Penrith session to
  practice/learn some added skills for the upcoming Snowy river extreme rac
 e. This is the perfect event if you can roll and want to test out some whi
 tewater\, or if you are a regular boater.\n\nWhat to bring:\n\n 	wet cloth
 es (it might be chilly so something warm)\n 	dry clothes\n 	water\n 	lunch
 /snacks\n 	sunscreen\n 	towel\n 	shoes that can get wet/dry shoes\n\nIt wi
 ll be assumed that you are borrowing club paddling gear. If you have your 
 own please let us know so there is more space in the car!\n\nThe water is 
 running from 9am-1:30pm\, so we will aim to get to Penrith at 8:45am. PM m
 e for more details regarding transport!
ATTACH;FMTTYPE=image/jpeg:https://unswoc.org/wordpress/wp-content/uploads/
 2019/07/12694617_10153379747941824_1657782810423543356_o.jpg
CATEGORIES:Whitewater Kayaking
END:VEVENT
BEGIN:VTIMEZONE
TZID:Australia/Sydney
X-LIC-LOCATION:Australia/Sydney
BEGIN:STANDARD
DTSTART:20190407T020000
TZOFFSETFROM:+1100
TZOFFSETTO:+1000
TZNAME:AEST
END:STANDARD
END:VTIMEZONE
END:VCALENDAR