BEGIN:VCALENDAR
VERSION:2.0
PRODID:-//wp-events-plugin.com//7.2.3.1//EN
TZID:Australia/Sydney
X-WR-TIMEZONE:Australia/Sydney
BEGIN:VEVENT
UID:2476@unswoc.org
DTSTART;TZID=Australia/Sydney;VALUE=DATE:20190929
DTEND;TZID=Australia/Sydney;VALUE=DATE:20190930
DTSTAMP:20190926T233955Z
URL:https://unswoc.org/wordpress/events/whitewater-at-penrith-3/
SUMMARY:Whitewater at Penrith
DESCRIPTION:Ahoy there!\n\nAidan and I will be running a Penrith session to
  practice/learn some added skills for the upcoming Snowy river extreme rac
 e. This is the perfect event if you can roll and want to test out some whi
 tewater\, or if you are a regular boater.\n\nWhat to bring:\n\n 	wet cloth
 es (it might be chilly so something warm)\n 	dry clothes\n 	water\n 	lunch
 /snacks (bars of any form are great)\n 	sunscreen\n 	towel\n 	shoes that c
 an get wet/dry shoes\n 	$20 cash for a bib deposit\n\nIt will be assumed t
 hat you are borrowing club paddling gear. If you have your own please let 
 us know so there is more space in the car!\n\nThe water is running from 10
 :30am-1:30pm. meet at the tram sheds at 8:30am to load on boats . PM me fo
 r more details regarding transport!
ATTACH;FMTTYPE=image/jpeg:https://unswoc.org/wordpress/wp-content/uploads/
 2019/07/12694617_10153379747941824_1657782810423543356_o.jpg
CATEGORIES:Whitewater Kayaking
END:VEVENT
BEGIN:VTIMEZONE
TZID:Australia/Sydney
X-LIC-LOCATION:Australia/Sydney
BEGIN:STANDARD
DTSTART:20190407T020000
TZOFFSETFROM:+1100
TZOFFSETTO:+1000
TZNAME:AEST
END:STANDARD
END:VTIMEZONE
END:VCALENDAR