BEGIN:VCALENDAR
VERSION:2.0
PRODID:-//wp-events-plugin.com//7.2.3.1//EN
TZID:Australia/Sydney
X-WR-TIMEZONE:Australia/Sydney
BEGIN:VEVENT
UID:2469@unswoc.org
DTSTART;TZID=Australia/Sydney:20190923T090000
DTEND;TZID=Australia/Sydney:20190923T130000
DTSTAMP:20190918T054601Z
URL:https://unswoc.org/wordpress/events/whitewater-at-penrith-2/
SUMMARY:Whitewater at Penrith
DESCRIPTION:Ahoy there!\n\nNick and Bennett will be running a Penrith sessi
 on to practice some added skills for the upcoming Snowy river extreme race
 . This is the perfect event for those with some whitewater kayaking experi
 ence to practice skills. It is expected that you are relatively self suffi
 cient as there will be no instruction at this session.\n\nWhat to bring:\n
 \n 	wet clothes (it might be chilly so something warm)\n 	dry clothes\n 	w
 ater\n 	lunch/snacks\n 	sunscreen\n 	towel\n 	shoes that can get wet/dry s
 hoes\n\nPaddling gear will be organised by Nick Fabian\, contact him for f
 urther details.\n\nThe water is running from 9:30am-12:30pm\, so we will a
 im to get to Penrith at 9:00am. PM Nick Fabian for more details regarding 
 transport!
ATTACH;FMTTYPE=image/jpeg:https://unswoc.org/wordpress/wp-content/uploads/
 2019/03/995620_10152142331777394_763677938_n.jpg
CATEGORIES:Whitewater Kayaking
END:VEVENT
BEGIN:VTIMEZONE
TZID:Australia/Sydney
X-LIC-LOCATION:Australia/Sydney
BEGIN:STANDARD
DTSTART:20190407T020000
TZOFFSETFROM:+1100
TZOFFSETTO:+1000
TZNAME:AEST
END:STANDARD
END:VTIMEZONE
END:VCALENDAR