BEGIN:VCALENDAR
VERSION:2.0
PRODID:-//wp-events-plugin.com//7.2.3.1//EN
TZID:Australia/Sydney
X-WR-TIMEZONE:Australia/Sydney
BEGIN:VEVENT
UID:2676@unswoc.org
DTSTART;TZID=Australia/Sydney:20200729T000000
DTEND;TZID=Australia/Sydney:20200731T000000
DTSTAMP:20200728T000716Z
URL:https://unswoc.org/wordpress/events/white-water-paddling-anyone/
SUMMARY:White Water Paddling Anyone?
DESCRIPTION:Hey team its been a while since we have had any solid rain..but
  now rivers are up!!\n\nthis is just a placeholder trip for a possible whi
 te water trip within the next week. message me your interest\, experience 
 and which days you are free.\n\nAidan
CATEGORIES:Whitewater Kayaking
END:VEVENT
BEGIN:VTIMEZONE
TZID:Australia/Sydney
X-LIC-LOCATION:Australia/Sydney
BEGIN:STANDARD
DTSTART:20200405T020000
TZOFFSETFROM:+1100
TZOFFSETTO:+1000
TZNAME:AEST
END:STANDARD
END:VTIMEZONE
END:VCALENDAR