BEGIN:VCALENDAR
VERSION:2.0
PRODID:-//wp-events-plugin.com//7.2.3.1//EN
TZID:Australia/Sydney
X-WR-TIMEZONE:Australia/Sydney
BEGIN:VEVENT
UID:2727@unswoc.org
DTSTART;TZID=Australia/Sydney;VALUE=DATE:20200808
DTEND;TZID=Australia/Sydney;VALUE=DATE:20200811
DTSTAMP:20200808T110651Z
URL:https://unswoc.org/wordpress/events/white-water-kayaking-on-the-shoalh
 aven-river/
SUMMARY:White water Kayaking on the Shoalhaven River
DESCRIPTION:Hey team\, a few of us are going kayaking on the Shoalhaven Riv
 er over this weekend.\n\nYou must have so prior experience on white water 
 and you should have a decent roll.\n\nAlie will be driving down on Sunday 
 and maybe staying down there on Monday too if anyone is free. There will b
 e other people paddling on Saturday too. If you would like to paddle on Sa
 turday I can put you in touch with someone who is going down.\n\nThere may
  be other rivers up that we could paddle instead. Please leave a comment w
 ith your experience.\n\nSee you in the river.
CATEGORIES:Whitewater Kayaking
END:VEVENT
BEGIN:VTIMEZONE
TZID:Australia/Sydney
X-LIC-LOCATION:Australia/Sydney
BEGIN:STANDARD
DTSTART:20200405T020000
TZOFFSETFROM:+1100
TZOFFSETTO:+1000
TZNAME:AEST
END:STANDARD
END:VTIMEZONE
END:VCALENDAR