BEGIN:VCALENDAR
VERSION:2.0
PRODID:-//wp-events-plugin.com//7.2.3.1//EN
TZID:Australia/Sydney
X-WR-TIMEZONE:Australia/Sydney
BEGIN:VEVENT
UID:2158@unswoc.org
DTSTART:20170729T210000Z
DTEND:20170730T073000Z
DTSTAMP:20170725T033849Z
URL:https://unswoc.org/wordpress/events/wentworth-falls-day-hike/
SUMMARY:Wentworth Falls Day Hike
DESCRIPTION:\n\nHowdy everyone\,\n\nWelcome to the first hike of the semest
 er! Come and join Maria and me as we trek around Wentworth Falls in the Bl
 ue Mountains.\n\nThis is a beautiful hike with scenery aplenty\, and well 
 worth the leg workout. As the name implies\, waterfalls are included in yo
 ur trip!\n\nWe will be meeting at 8am at Central Station Platform 8\, whe
 nce we will catch the 8.18 train to arrive at Wentworth Falls shortly afte
 r 10am.\n\nThe hike is about 5 hours long\, not including our lunch break
 \, so we should be back on the train before dark.\n\nYou will want to brin
 g:\n\n	Decent walking shoes (Hiking boots are ideal\, sneakers are fine bu
 t make sure that they have decent grip. There will probably be slippery 
 areas)\n	A hat and/or sunscreen - I'm not your mum\, but you will still ge
 t sunburnt\n	A jumper or jacket. The mountains get a lot colder than Sydn
 ey\, and it's winter\, so rug up!\n	Lunch. Something tasty as a reward for
  all your hard work :)\n	Plenty of snacks! Nuts\, lollies\, dried fruit\,
  muesli bars\, whatever will keep your energy levels up\n	AT LEAST 2 LITRE
 S OF WATER. We will be doing a lot of walking\, which means you need to be
  doing a lot of drinking. Simple biology\, really.\n	A first aid kit\, if 
 you have one. Tape and band-aids for blisters is a good idea.\n	Opal Card!
  We'll take advantage of Cheapo Sundays :)\n\nFAIR WARNING: This is a begi
 nner hike\, in that it's a proper trail which is well-marked. BUT there a
 re a lot of stairs both up and down\, it's about 9km long\, and we will b
 e doing lots of walking (well\, it IS a hike). So please bring your legs 
 :)\n\n&nbsp\;
CATEGORIES:Bushwalking
END:VEVENT
END:VCALENDAR