BEGIN:VCALENDAR
VERSION:2.0
PRODID:-//wp-events-plugin.com//7.2.3.1//EN
TZID:Australia/Sydney
X-WR-TIMEZONE:Australia/Sydney
BEGIN:VEVENT
UID:3638@unswoc.org
DTSTART;TZID=Australia/Sydney:20250912T103000
DTEND;TZID=Australia/Sydney:20250912T160000
DTSTAMP:20250911T095741Z
URL:https://unswoc.org/wordpress/events/welcome-to-the-club-beginners-soci
 al-hike-lane-cove-25t3/
SUMMARY:Welcome to the Club - Beginners Social Hike\, Lane Cove
DESCRIPTION:Event has been moved to Friday 12th September!\nAll other times
  and locations are unchanged.\n\n\n\nPlease read the whole page before req
 uesting to join the trip!\n\n\n\nHey Everyone!\n\nIf you’ve just joined 
 the club\, we have the perfect event for you! We want to get to know you b
 etter so we will be running a social hike in the Lane Cove National Park o
 n Friday 12th September (O-week). This is a great area very close to Sydn
 ey and there's a strong chance you might even see a Wallaby (picture above
  - this is the closest I've seen them to Sydney)!\n\nIf hiking really isn'
 t your thing\, then come over to The Ledge on Thursday afternoons\, or kee
 p an eye out on our Instagram / Facebook page for details about our Welcom
 e BBQ.\nWhere is it?\nOur route is along the Lane Cove River near Macquari
 e Park. The walk starts at North Ryde Metro Station\, before following the
  road down to the Great North Walk. We follow the Great North Walk past a 
 little weir and a nice little picnic area (where there are toilets\, whoa!
 )\, before heading back into the bush for some more riverside action. We f
 inish at De Burgh's Bridge\, a short walk away from Macquarie Centre and t
 he metro station.\n\nThe route map is here - all up\, 10km.\n\nWe will mee
 t at North Ryde Station at 10:30am. Expect to be back at Macquarie Park St
 ation around 4pm.\nWho can come?\nThis event is mainly for the new members
  who have just started uni\, are looking to join the club soon\, or joined
  the club recently (maybe at the o-week stall 👀).\n\nThis trip is very 
 beginner friendly\, assuming you have a base level of fitness and can comf
 ortably walk 10km in a day. No prior bushwalking / hiking experience is ne
 eded.\n\nWe will take plenty of breaks and nobody will be left behind :)\n
 What to bring?\n\n 	Backpack to hold your belongings\n 	Sun protection: Ha
 t\, sunglasses\, sunscreen\n 	Sturdy\, enclosed shoes – definitely not a
  hike for thongs.\n 	At least 2L of water\n 	Snacks and Lunch\n 	Rain jack
 et (check the weather)\n 	Any personal medication you may need\n\nYou will
  be turned back if you do not have appropriate supplies :)\nSounds great! 
 How do I sign up?\nYou don't need to join the club just yet* to come along
  on this trip\, however you do need to make an account (no need to pay the
  fee). Further information on joining the club can be found here.\n\nThen\
 , scroll down to the bottom of this page. There will be a comment box and 
 a button saying "Request to join this trip".\n\nPlease answer all of the f
 ollowing in the comment box:\n\n 	How you will be getting there\n 	Any pri
 or hiking experience\n 	When you joined the club\n 	Your second-favourite 
 colour and why it isn't your top favourite (so that I know you were paying
  attention)\n\nIf you have any troubles\, feel free to reach out to Callum
  and Noah - their email is events [at] unswoc.org\n\nIf you can't see the 
 box\, you're probably not signed in to your account!!\n\nCan’t wait to s
 ee you all there!\n\n\n\n* Please note that only club members are covered 
 under the club's insurance.
ATTACH;FMTTYPE=image/jpeg:https://unswoc.org/wordpress/wp-content/uploads/
 2025/08/lanecove.jpg
CATEGORIES:Bushwalking,Hectic Hiking,Social Event
LOCATION:https://maps.app.goo.gl/TJ2euhc73KixxNWM9
END:VEVENT
BEGIN:VTIMEZONE
TZID:Australia/Sydney
X-LIC-LOCATION:Australia/Sydney
BEGIN:STANDARD
DTSTART:20250406T020000
TZOFFSETFROM:+1100
TZOFFSETTO:+1000
TZNAME:AEST
END:STANDARD
END:VTIMEZONE
END:VCALENDAR