BEGIN:VCALENDAR
VERSION:2.0
PRODID:-//wp-events-plugin.com//7.2.3.1//EN
TZID:Australia/Sydney
X-WR-TIMEZONE:Australia/Sydney
BEGIN:VEVENT
UID:3525@unswoc.org
DTSTART;TZID=Australia/Sydney:20250215T100000
DTEND;TZID=Australia/Sydney:20250215T170000
DTSTAMP:20250404T034419Z
URL:https://unswoc.org/wordpress/events/welcome-to-the-club-beginners-soci
 al-hike-audley/
SUMMARY:Welcome to the Club - Beginners Social Hike\, Audley
DESCRIPTION:Please read the whole page before requesting to join the trip!\
 n\n\n\nHey Everyone!\n\nIf you’ve just joined the club\, we have the per
 fect event for you! We want to get to know you better so we will be runnin
 g a social hike in the Royal National Park on Saturday 15th February (end 
 of O-Week). This is a great area very close to Sydney and is even the worl
 d's second-oldest national park!\n\nIf hiking really isn't your thing\, th
 en come over to The Ledge on Thursday afternoons\, or keep an eye out on o
 ur Instagram / Facebook page for details about our Welcome BBQ.\nWhere is 
 it?\nOur route is from Engadine to Loftus via Audley. The walk starts at E
 ngadine train station\, before following the Engadine Track down to Kangar
 oo Creek where we can have a swim in the river if the weather is looking u
 p to it. We then continue to Audley for a nice little picnic area (where t
 here are toilets\, whoa!) before climbing up the stairs out to Loftus stat
 ion.\n\nThe route map is here - all up\, 11km.\n\nWe will meet at Engadine
  Station at 10am. Expect to be back at Loftus station around 4-5pm.\nWho c
 an come?\nThis event is mainly for the new members who have just started u
 ni\, are looking to join the club soon\, or joined the club recently (mayb
 e at the o-week stall 👀).\n\nThis trip is very beginner friendly\, assu
 ming you have a base level of fitness and can comfortably walk 11km in a d
 ay. No prior bushwalking / hiking experience is needed.\n\nWe will take p
 lenty of breaks and nobody will be left behind :)\nWhat to bring?\n\n 	Bac
 kpack to hold your belongings\n 	Sun protection: Hat\, sunglasses\, sunscr
 een\n 	Sturdy\, enclosed shoes – definitely not a hike for thongs.\n 	At
  least 2L of water\n 	Snacks and Lunch\n 	Change of clothes / swimmers / t
 owel (if you wish to swim)\n 	Rain jacket (check the weather)\n 	Any perso
 nal medication you may need\n\nYou will be turned back if you do not have 
 appropriate supplies :)\nSounds great! How do I sign up?\nYou don't need t
 o join the club just yet* to come along on this trip\, however you do need
  to sign up to the website (no need to pay the fee).\n\nThen\, scroll down
  to the bottom of this page. There will be a comment box and a button sayi
 ng "Request to join this trip".\n\nPlease answer all of the following in t
 he comment box:\n\n 	How you will be getting there\n 	Any prior hiking exp
 erience\n 	When you joined the club\n 	Your second-favourite colour and wh
 y it isn't your top favourite (so that I know you were paying attention)\n
 \nIf you have any troubles\, feel free to reach out to me\, Sudarshan - my
  email is webadmin [at] unswoc.org\n\nCan’t wait to see you all there!\n
 \n\n\n* Please note that only club members are covered under the club's in
 surance.
ATTACH;FMTTYPE=image/jpeg:https://unswoc.org/wordpress/wp-content/uploads/
 2025/02/20241212_151747-Large.jpg
CATEGORIES:Bushwalking,Hectic Hiking,Social Event
LOCATION:https://maps.app.goo.gl/k9d3jcacJ5Sx3Gv7A
END:VEVENT
BEGIN:VTIMEZONE
TZID:Australia/Sydney
X-LIC-LOCATION:Australia/Sydney
BEGIN:DAYLIGHT
DTSTART:20241006T030000
TZOFFSETFROM:+1000
TZOFFSETTO:+1100
TZNAME:AEDT
END:DAYLIGHT
END:VTIMEZONE
END:VCALENDAR