BEGIN:VCALENDAR
VERSION:2.0
PRODID:-//wp-events-plugin.com//7.2.3.1//EN
TZID:Australia/Sydney
X-WR-TIMEZONE:Australia/Sydney
BEGIN:VEVENT
UID:3716@unswoc.org
DTSTART;TZID=Australia/Sydney:20260221T103000
DTEND;TZID=Australia/Sydney:20260221T170000
DTSTAMP:20260408T071313Z
URL:https://unswoc.org/wordpress/events/welcome-to-the-club-beginners-soci
 al-hike-audley-26t1/
SUMMARY:[FULL] Welcome to the Club - Beginners Social Hike\, Audley 26T1
DESCRIPTION:This trip is now full! If you could not make it\, hope to see y
 ou on Thursdays at the Ledge!\nPlease read the whole page before requestin
 g to join the trip!\n\n\n\nHey Everyone!\n\nIf you’ve just joined the cl
 ub\, we have the perfect event for you! We want to get to know you better 
 so we will be running a social hike in the Royal National Park on Saturday
  21st February (end of Week 1). This is a great area very close to Sydney 
 and is even the world's second-oldest national park!\n\nIf hiking really i
 sn't your thing\, then come over to The Ledge on Thursday afternoons\, or 
 keep an eye out on our Instagram / Facebook page for details about our Wel
 come BBQ.\nWhere is it?\nOur route is from Engadine to Loftus via Audley. 
 The walk starts at Engadine train station\, before following the Engadine 
 Track down to Kangaroo Creek where we can have a 🏊🏼‍♀️ swim in
  the river 🌊 if the weather is looking up to it. We then continue to Au
 dley for a nice little picnic area (where there are toilets\, whoa!) befor
 e climbing up the stairs out to Loftus station via an old tramway 🚃\n\n
 The route map is here - all up\, 11km.\n\nWe will meet at Engadine Station
  at 10:30am. Expect to be back at Loftus station around 4-5pm.\nWho can co
 me?\nThis event is mainly for the new members who have just started uni\, 
 are looking to join the club soon\, or joined the club recently (maybe at 
 the o-week stall 👀).\n\nThis trip is very beginner friendly\, assuming 
 you have a base level of fitness and can comfortably walk 11km in a day. 
 No prior bushwalking / hiking experience is needed.\n\nWe will take plenty
  of breaks and nobody will be left behind :)\nWhat to bring?\n\n 	Backpack
  to hold your belongings\n 	Sun protection: Hat\, sunglasses\, sunscreen\n
  	Sturdy\, enclosed shoes – definitely not a hike for thongs.\n 	At leas
 t 2L of water\n 	Lunch\n 	Change of clothes / swimmers / towel (if you wis
 h to swim)\n 	Rain jacket (check the weather)\n 	Any personal medication y
 ou may need\n\nYou will be turned back if you do not have appropriate supp
 lies :)\nSounds great! How do I sign up?\nYou don't need to join the club 
 just yet* to come along on this trip\, however you do need to sign up to t
 he website (no need to pay the fee).\n\nThen\, scroll down to the bottom o
 f this page. There will be a comment box and a button saying "Request to j
 oin this trip".\n\nPlease answer all of the following in the comment box:\
 n\n 	How you will be getting there\n 	Any prior hiking experience\n 	When 
 you joined the club\n 	Your second-favourite colour and why it isn't your 
 top favourite (so that I know you were paying attention)\n\nIf you have an
 y troubles\, feel free to reach out to me\, Sudarshan - my email is webadm
 in [at] unswoc.org\n\nIf you can't see the comment box\, you might not be 
 signed in.\n\nCan’t wait to see you all there!\n\nPS: Approvals will sta
 rt at the end of O-Week so everyone has a chance to sign up :)\n\n\n\n* Pl
 ease note that only club members are covered under the club's insurance.
CATEGORIES:Bushwalking,Hectic Hiking,Social Event
LOCATION:https://maps.app.goo.gl/k9d3jcacJ5Sx3Gv7A
END:VEVENT
BEGIN:VTIMEZONE
TZID:Australia/Sydney
X-LIC-LOCATION:Australia/Sydney
BEGIN:DAYLIGHT
DTSTART:20251005T030000
TZOFFSETFROM:+1000
TZOFFSETTO:+1100
TZNAME:AEDT
END:DAYLIGHT
END:VTIMEZONE
END:VCALENDAR