BEGIN:VCALENDAR
VERSION:2.0
PRODID:-//wp-events-plugin.com//7.2.3.1//EN
TZID:Australia/Sydney
X-WR-TIMEZONE:Australia/Sydney
BEGIN:VEVENT
UID:2879@unswoc.org
DTSTART;TZID=Australia/Sydney:20180301T180000
DTEND;TZID=Australia/Sydney:20180301T190000
DTSTAMP:20210305T025358Z
URL:https://unswoc.org/wordpress/events/welcome-night-at-the-ledge/
SUMMARY:Welcome night at The Ledge
DESCRIPTION:Hi Everyone!\n\nThis Thursday we will be running a welcome sess
 ion at the Ledge to formally run through how to safely top-rope belay your
  climbing partner.\n\nDate: 1st March 2018 (This Thursday)\n\nTime: 6pm Pl
 ease don't be late!\n\nPlace: The Ledge\n\nGear you'll need (can be obtain
 ed from Gear Night - check Facebook for time):\n\n 	1 X Harness\n 	1 X Cli
 mbing shoes\n\nThis introductory session is ideal for any first timers wan
 ting to get into climbing!!\n\nSee you there!
CATEGORIES:Climbing,Training
END:VEVENT
BEGIN:VTIMEZONE
TZID:Australia/Sydney
X-LIC-LOCATION:Australia/Sydney
BEGIN:DAYLIGHT
DTSTART:20171001T030000
TZOFFSETFROM:+1000
TZOFFSETTO:+1100
TZNAME:AEDT
END:DAYLIGHT
END:VTIMEZONE
END:VCALENDAR