BEGIN:VCALENDAR
VERSION:2.0
PRODID:-//wp-events-plugin.com//7.2.3.1//EN
TZID:Australia/Sydney
X-WR-TIMEZONE:Australia/Sydney
BEGIN:VEVENT
UID:3649@unswoc.org
DTSTART;TZID=Australia/Sydney:20250914T000000
DTEND;TZID=Australia/Sydney:20250914T000000
DTSTAMP:20250908T042941Z
URL:https://unswoc.org/wordpress/events/welcome-canyon-calling-all-new-mem
 bers/
SUMMARY:Welcome Canyon!! Calling all new members
DESCRIPTION:Have you recently joined the club??\n\nWere you promised advent
 ures beyond your imagination??\n\nMaybe you just want to get a return on y
 our $60\n\nWell boy do I have the activity for you. I'm inviting you to co
 me canyoning with me on  Sunday the 14th to explore one of my favorite bl
 ue mountains canyons. Serendipity.\n\nNow canyoning is a bit more intensiv
 e than your normal hike so you will need some to pick up some specialist g
 ear at the gear cupboard This Thursday.\n\nSee below for a list of things
  you need to bring. If you don’t have any of these no need to worry just
  let me know before we're in the car driving up\n\n&nbsp\;\n\nAvailable to
  borrow from the Club:\n\n 	Canyoning harness\n 	Helmet\n 	Wetsuit\n 	2x L
 ocking carabiners\n 	1x Figure 8 descender\n 	1x Safety sling\n 	Drybag/ke
 g\n\n&nbsp\;\n\nOther gear you must bring:\n\n 	Backpack that can fit ALL 
 your gear and that can get wet (30L+)\n 	Emergency blanket – (can buy fr
 om Gear Cupboard for $5 or from chemists\, shops\, etc)\n 	Enclosed shoes 
 with good grip\, suitable for water and bushwalking\n 	Wool or neoprene or
  other thick socks\n 	Boardshorts to wear on top of wetsuit (compulsory to
  protect the club wetsuits)\n 	Thermals and raincoat\n 	Swimmers for under
  wetsuit\n 	NO COTTON! (this includes socks\, shirts\, pants\, etc)\n 	2L 
 of water\n 	Lunch\n 	Snacks to share with meee 😋\n 	Medication (asthma 
 puffer\, Epipen etc)\n 	Headtorch + spare batteries\n 	Dry clothes and a t
 owel for the drive back home\n\n&nbsp\;\n\nIn the comment tell me what you
 r experience is i.e can you abseil\, hiking and also tell me if asking for
  a jellybean from my doctor still acceptable at 20 years of age
ATTACH;FMTTYPE=image/jpeg:https://unswoc.org/wordpress/wp-content/uploads/
 2025/09/20250426_191906-1-scaled.jpg
CATEGORIES:Canyoning
LOCATION:http://G
END:VEVENT
BEGIN:VTIMEZONE
TZID:Australia/Sydney
X-LIC-LOCATION:Australia/Sydney
BEGIN:STANDARD
DTSTART:20250406T020000
TZOFFSETFROM:+1100
TZOFFSETTO:+1000
TZNAME:AEST
END:STANDARD
END:VTIMEZONE
END:VCALENDAR