BEGIN:VCALENDAR
VERSION:2.0
PRODID:-//wp-events-plugin.com//7.2.3.1//EN
TZID:Australia/Sydney
X-WR-TIMEZONE:Australia/Sydney
BEGIN:VEVENT
UID:3526@unswoc.org
DTSTART;TZID=Australia/Sydney:20250220T183000
DTEND;TZID=Australia/Sydney:20250220T200000
DTSTAMP:20250212T031522Z
URL:https://unswoc.org/wordpress/events/welcome-bbq-term-1-2025/
SUMMARY:Welcome BBQ Term 1 2025
DESCRIPTION:Hey Everyone!\n\nNext Thursday (20th of February) we are having
  a BBQ to kick off another year of outdoors fun!\n\nCome along to The Ledg
 e Climbing Centre at Sydney Uni from 6pm onwards for climbing and chats.\n
 \nWe'll be serving sausages (veg options available) from 6:30pm onwards an
 d heading to the Forest Lodge Hotel around 8pm for drinks and food and mor
 e chats.\n\nThis is a great opportunity to meet people and get to know mor
 e about the club so I'd highly encourage new members or anyone who is thin
 king about joining to come along!\n\nHope to see you there!
CATEGORIES:Social Event
LOCATION:https://www.google.com/maps/place/The+Ledge+Climbing+Centre/@-33.8
 874056,151.1862361,17z/data=!3m1!4b1!4m6!3m5!1s0x6b12b02b45883365:0x929b3a
 7adf435289!8m2!3d-33.8874056!4d151.1862361!16s%2Fg%2F1tg2dnb0?entry=ttu&g_
 ep=EgoyMDI1MDIwOS4wIKXMDSoASAFQAw%3D%3D
END:VEVENT
BEGIN:VTIMEZONE
TZID:Australia/Sydney
X-LIC-LOCATION:Australia/Sydney
BEGIN:DAYLIGHT
DTSTART:20241006T030000
TZOFFSETFROM:+1000
TZOFFSETTO:+1100
TZNAME:AEDT
END:DAYLIGHT
END:VTIMEZONE
END:VCALENDAR