BEGIN:VCALENDAR
VERSION:2.0
PRODID:-//wp-events-plugin.com//7.2.3.1//EN
TZID:Australia/Sydney
X-WR-TIMEZONE:Australia/Sydney
BEGIN:VEVENT
UID:2697@unswoc.org
DTSTART;TZID=Australia/Sydney;VALUE=DATE:20200801
DTEND;TZID=Australia/Sydney;VALUE=DATE:20200803
DTSTAMP:20200730T063808Z
URL:https://unswoc.org/wordpress/events/weekend-whitewater-warriors/
SUMMARY:Weekend Whitewater Warriors
DESCRIPTION:It's been raining and the rivers are running. This weekend we'l
 l be doing some intermediate/advanced rivers. It all depends on levels\, b
 ut we are thinking an easier day on Saturday (class III ish range\, most l
 ikely laps on the powerlines) and a harder day (class IV range) on Sunday.
  Some ideas (click on names of rivers for psych) that have been thrown aro
 und are:\n\n 	Shoalhaven (powerlines)\n 	Shoalhaven (gorge)\n 	Corang\n 	W
 inge (Joadja to River Bend Nature Retreat)\n 	Wollondilly (the short secti
 on)\n\nComment what boat (and other gear) you lay claim to (first in first
  served)\, your prior paddling experience if you haven't paddled with me b
 efore\, and what river's/days you are keen.\n\nThis trip is only open to s
 elf sufficient whitewater kayakers. Cars needed :P\n\n&nbsp\;
ATTACH;FMTTYPE=image/jpeg:https://unswoc.org/wordpress/wp-content/uploads/
 2020/07/Paddling.jpg
CATEGORIES:Whitewater Kayaking
END:VEVENT
BEGIN:VTIMEZONE
TZID:Australia/Sydney
X-LIC-LOCATION:Australia/Sydney
BEGIN:STANDARD
DTSTART:20200405T020000
TZOFFSETFROM:+1100
TZOFFSETTO:+1000
TZNAME:AEST
END:STANDARD
END:VTIMEZONE
END:VCALENDAR