BEGIN:VCALENDAR
VERSION:2.0
PRODID:-//wp-events-plugin.com//7.2.3.1//EN
TZID:Australia/Sydney
X-WR-TIMEZONE:Australia/Sydney
BEGIN:VEVENT
UID:2205@unswoc.org
DTSTART:20171210T060000Z
DTEND:20171212T123000Z
DTSTAMP:20171212T234141Z
URL:https://unswoc.org/wordpress/events/weekday-whitewater-warriors/
SUMMARY:Weekday whitewater warriors
DESCRIPTION:We will be going to chase all that rain down in Canberra and ge
 t on some rad rivers!\n\nWhen/where:\n\nLeaving Sydney at 5pm Sunday night
 \, camping at pine island. We will go paddling on Monday in Canberra. Tues
 day\, depending on water levels we might head to the Eucumbene if the wate
 r is sufficient\, otherwise we will stay in Canberra. Driving home late Tu
 esday night.\n\nWho:\n\nOnly open to experienced unswoc whitewater paddler
 s NOT BEGINNER FRIENDLY (sorry newbs\, there will be pool sessions coming 
 up for you to develop those skills soon!)\n\nGear:\n\nUnswoc will be provi
 ding paddling and safety gear. Attendees will be responsible for providing
  their own adequate clothing\, first aid\, food\, camping gear etc.
CATEGORIES:Whitewater Kayaking
END:VEVENT
END:VCALENDAR