BEGIN:VCALENDAR
VERSION:2.0
PRODID:-//wp-events-plugin.com//7.2.3.1//EN
TZID:Australia/Sydney
X-WR-TIMEZONE:Australia/Sydney
BEGIN:VEVENT
UID:3302@unswoc.org
DTSTART;TZID=Australia/Sydney;VALUE=DATE:20230826
DTEND;TZID=Australia/Sydney;VALUE=DATE:20230904
DTSTAMP:20230822T044625Z
URL:https://unswoc.org/wordpress/events/week-of-climbing-at-arapiles-djuri
 te/
SUMMARY:Week of Climbing at Arapiles (Djurite)
DESCRIPTION:Hey everyone!\n\nA group of UNSWOC members are heading out to A
 rapiles (Djurite) from August 26th to September 3rd. Arapiles is predomina
 ntly a trad climbing crag\, but there are a handful of hard sport climbing
  routes and a couple boulders around. It's a long way away\, roughly 12 ho
 urs drive from Sydney. If you're free next week and keen on joining\, feel
  free to message me (Linna) . Ideally you are a self-sufficient trad climb
 er / have experience with trad gear and can organise your own transport do
 wn there.\n\n[caption id="attachment_15479" align="alignnone" width="806"]
  Marcus and Lucas on Pilot Error[/caption]\n\nHope to see you there!
CATEGORIES:Climbing,Outdoor Climbing
LOCATION:https://goo.gl/maps/p8XP4VSVBqoYjWAs6
END:VEVENT
BEGIN:VTIMEZONE
TZID:Australia/Sydney
X-LIC-LOCATION:Australia/Sydney
BEGIN:STANDARD
DTSTART:20230402T020000
TZOFFSETFROM:+1100
TZOFFSETTO:+1000
TZNAME:AEST
END:STANDARD
END:VTIMEZONE
END:VCALENDAR