BEGIN:VCALENDAR
VERSION:2.0
PRODID:-//wp-events-plugin.com//7.2.3.1//EN
TZID:Australia/Sydney
X-WR-TIMEZONE:Australia/Sydney
BEGIN:VEVENT
UID:2247@unswoc.org
DTSTART:20180504T210000Z
DTEND:20180506T110000Z
DTSTAMP:20180418T001113Z
URL:https://unswoc.org/wordpress/events/wee-jasper-caving/
SUMMARY:Wee Jasper caving
DESCRIPTION:
ATTACH;FMTTYPE=image/jpeg:https://unswoc.org/wordpress/wp-content/uploads/
 2018/04/46BBDAA0-EFCE-4A15-BF34-06467A5D2915.jpeg
CATEGORIES:Caving
END:VEVENT
END:VCALENDAR