BEGIN:VCALENDAR
VERSION:2.0
PRODID:-//wp-events-plugin.com//7.2.3.1//EN
TZID:Australia/Sydney
X-WR-TIMEZONE:Australia/Sydney
BEGIN:VEVENT
UID:3260@unswoc.org
DTSTART;TZID=Australia/Sydney:20230610T180000
DTEND;TZID=Australia/Sydney:20230612T180000
DTSTAMP:20230528T052857Z
URL:https://unswoc.org/wordpress/events/wee-jasper-caving-3/
SUMMARY:Wee Jasper Caving!!
DESCRIPTION:\n\nHey hey let's celebrate the start of term 2 by going caving
 !! Wee Jasper is near Yass and has a number of awesome caves we will be ex
 ploring over 2-3 days. If you're keen to get down and dirty\, not afraid o
 f small spaces and have a sense of adventure this is the trip for you!\n\n
 We'll be leaving Friday arvo/evening (after work/uni) as it's a bit of a d
 rive
ATTACH;FMTTYPE=image/jpeg:https://unswoc.org/wordpress/wp-content/uploads/
 2023/05/Caving-300x225-1.jpeg
CATEGORIES:Caving
END:VEVENT
BEGIN:VTIMEZONE
TZID:Australia/Sydney
X-LIC-LOCATION:Australia/Sydney
BEGIN:STANDARD
DTSTART:20230402T020000
TZOFFSETFROM:+1100
TZOFFSETTO:+1000
TZNAME:AEST
END:STANDARD
END:VTIMEZONE
END:VCALENDAR