BEGIN:VCALENDAR
VERSION:2.0
PRODID:-//wp-events-plugin.com//7.2.3.1//EN
TZID:Australia/Sydney
X-WR-TIMEZONE:Australia/Sydney
BEGIN:VEVENT
UID:2407@unswoc.org
DTSTART:20190514T230000Z
DTEND:20190517T070000Z
DTSTAMP:20190507T064256Z
URL:https://unswoc.org/wordpress/events/wee-jasper-caving-2/
SUMMARY:Wee Jasper Caving!!
DESCRIPTION:\n\nHey hey let's celebrate the end of the first trimester by g
 oing caving!! Wee Jasper is near Yass and has a number of awesome caves we
  will be exploring over 2-3 days. If you're keen to get down and dirty\, n
 ot afraid of small spaces and have a sense of adventure this is the trip f
 or you!
CATEGORIES:Caving
END:VEVENT
END:VCALENDAR