BEGIN:VCALENDAR
VERSION:2.0
PRODID:-//wp-events-plugin.com//7.2.3.1//EN
TZID:Australia/Sydney
X-WR-TIMEZONE:Australia/Sydney
BEGIN:VEVENT
UID:649@unswoc.org
DTSTART:20141112T050000Z
DTEND:20141112T080000Z
DTSTAMP:20141110T103239Z
URL:https://unswoc.org/wordpress/events/wednesday-avro-waterlining/
SUMMARY:Wednesday Avro Waterlining
DESCRIPTION:G'day\, Kids.\n\nWe are going to go waterlining (slacklining ov
 er water) at Watson's Bay on Wednesday (12th of Nov) afternoon from about 
 4pm. We will have fun on the waterline before we head to dinner at the Sha
 kespeare Hotel in Surry Hills. All you need is your swimmers!\n\nSee you a
 ll there :). \n\n
ATTACH;FMTTYPE=image/jpeg:https://unswoc.org/wordpress/wp-content/uploads/
 2014/11/578414_10202380328973456_642084113_n.jpg
CATEGORIES:Social Event
LOCATION:Watons Bay\, 8 Marine Parade \, Watsons Bay \, NSW\, 2030\, Austra
 lia
GEO:-33.845177;151.281754
X-APPLE-STRUCTURED-LOCATION;VALUE=URI;X-ADDRESS=8 Marine Parade \, Watsons 
 Bay \, NSW\, 2030\, Australia;X-APPLE-RADIUS=100;X-TITLE=Watons Bay:geo:-3
 3.845177,151.281754
END:VEVENT
END:VCALENDAR