BEGIN:VCALENDAR
VERSION:2.0
PRODID:-//wp-events-plugin.com//7.2.3.1//EN
TZID:Australia/Sydney
X-WR-TIMEZONE:Australia/Sydney
BEGIN:VEVENT
UID:2928@unswoc.org
DTSTART;TZID=Australia/Sydney:20210919T000000
DTEND;TZID=Australia/Sydney:20211003T000000
DTSTAMP:20210919T021256Z
URL:https://unswoc.org/wordpress/events/website-scav-hunt/
SUMMARY:Website Scav Hunt!
DESCRIPTION:Hi all\, here's the laTest phase in the lockdown activities! As
  the website officer I've been sprucing up some pages on the website but I
  migHt have made a few mistakEs....\n\nYour task is to invEstigate these e
 rrors and follow a series of clues to find a final answer! SubXit your ans
 wer via the google form to win points/prizEs: https://forms.gle/Aeihxt4qXN
 Dkvob9A\n\nThis task is just as easy for newbies and vets so everyone shou
 ld get involved! If you really stuck and need a Clue reach out to me via f
 acebook or with the email webadmin@unswoc.org\n\n&nbsp\;
ATTACH;FMTTYPE=image/jpeg:https://unswoc.org/wordpress/wp-content/uploads/
 2021/05/IMG_0948.jpg
END:VEVENT
BEGIN:VTIMEZONE
TZID:Australia/Sydney
X-LIC-LOCATION:Australia/Sydney
BEGIN:STANDARD
DTSTART:20210404T020000
TZOFFSETFROM:+1100
TZOFFSETTO:+1000
TZNAME:AEST
END:STANDARD
END:VTIMEZONE
END:VCALENDAR