BEGIN:VCALENDAR
VERSION:2.0
PRODID:-//wp-events-plugin.com//7.2.3.1//EN
TZID:Australia/Sydney
X-WR-TIMEZONE:Australia/Sydney
BEGIN:VEVENT
UID:2581@unswoc.org
DTSTART;TZID=Australia/Sydney;VALUE=DATE:20191117
DTEND;TZID=Australia/Sydney;VALUE=DATE:20191118
DTSTAMP:20191112T034939Z
URL:https://unswoc.org/wordpress/events/waterhole-wander-karloo-uloola-fal
 ls-day-hike/
SUMMARY:Waterhole Wander - Karloo &amp\; Uloola Falls day hike
DESCRIPTION:Hey team!\nBrendan and I will be leading a day hike in Heathcot
 e National Park on Sunday.\n\nThe walk will pass by Karloo pools\, where w
 e can stop for a swim\, before heading on past Uloola and then finishing u
 p at Waterfall Station. This is perfect for people who want to escape the 
 city and get outside for the day to make the most of the beautiful weather
  we’ve been having.\n\nWe will be taking public transport from Central S
 tation\, so please ensure that you follow the packing list below.\n\nYou w
 ill need:\nDay pack\nLunch\nSnacks\nSwimmers and a towel\nWATER (2L minimu
 m!)\nComfortable walking shoes\nSunscreen/hat\n\nMessage us (Brendan Conne
 ely or Beth Howlett) on Facebook or comment below with your experience and
  any questions you might have!\n\nTrip notes:\nhttp://www.wildwalks.com/bu
 shwalking-and-hiking-in-nsw/royal-national-park/uloola-track.html\n\nThoug
 h it's only a day hike\, please have a look at the Leave No Trace info if 
 you are unfamiliar: https://blog.nationalparks.nsw.gov.au/how-to-leave-no-
 trace/\n\n-Beth
ATTACH;FMTTYPE=image/jpeg:https://unswoc.org/wordpress/wp-content/uploads/
 2019/11/karloo-walking-track-02.jpg
CATEGORIES:Bushwalking
END:VEVENT
BEGIN:VTIMEZONE
TZID:Australia/Sydney
X-LIC-LOCATION:Australia/Sydney
BEGIN:DAYLIGHT
DTSTART:20191006T030000
TZOFFSETFROM:+1000
TZOFFSETTO:+1100
TZNAME:AEDT
END:DAYLIGHT
END:VTIMEZONE
END:VCALENDAR