BEGIN:VCALENDAR
VERSION:2.0
PRODID:-//wp-events-plugin.com//7.2.3.1//EN
TZID:Australia/Sydney
X-WR-TIMEZONE:Australia/Sydney
BEGIN:VEVENT
UID:2295@unswoc.org
DTSTART;VALUE=DATE:20181006
DTEND;VALUE=DATE:20181007
DTSTAMP:20200126T222814Z
URL:https://unswoc.org/wordpress/events/waterfall-adventure/
SUMMARY:Waterfall Adventure
DESCRIPTION:It's forecast to rain tomorrow which means hopefully the waterf
 alls will be better than average so Ewa and I will be running a hiking tri
 p in the Blue Mountains to a waterfall.\n\nIf you'd like to join us\, plea
 se send me a facebook message to let me know whether you have a car and ca
 n give lifts and how energetic you are feeling! We will decide on the hike
  once we know who's coming.\n\nAny questions\, let myself or Ewa know :)\n
 \nYou will need:\n\n 	Enthusiasm\n 	Lunch\n 	At least 2l water\n 	Rain jac
 ket\n 	Headtorch\n 	Backpack for the above\n 	Hiking shoes\n
CATEGORIES:Hectic Hiking
END:VEVENT
END:VCALENDAR