BEGIN:VCALENDAR
VERSION:2.0
PRODID:-//wp-events-plugin.com//7.2.3.1//EN
TZID:Australia/Sydney
X-WR-TIMEZONE:Australia/Sydney
BEGIN:VEVENT
UID:3403@unswoc.org
DTSTART;TZID=Australia/Sydney:20240405T210000
DTEND;TZID=Australia/Sydney:20240405T230000
DTSTAMP:20240310T110916Z
URL:https://unswoc.org/wordpress/events/watching-the-room-at-the-orpheum/
SUMMARY:Watching the Room at the Orpheum
DESCRIPTION:Have you ever thought that the clubs focus on organizing trips 
 doing the kind of adventurous\, physically demanding outdoor activities fo
 r which the club is intended comes at a cost of you viewing cinematic mast
 erpieces such as the seminal 2003 film "The Room"\, with large groups of f
 riends? Well\, those concerns can be dispelled\, because instead of using 
 the rope skills\, first aid and leadership with which the club has investe
 d significant resources into me gaining to run a climbing or canyoning tri
 p\, I've decided that what people really want is to put on their fancy dre
 ss and throw spoons at the big screen. So\, join me on Friday the 5th of A
 pril to attend the monthly screening of the cult classic "The Room". If yo
 u haven't heard of it\, the wiki page on it has a quote describing it as "
 the Citizen Cane of bad movies"\, and has thus gained a cult following. Th
 e Hayden Orpheum in Neutral Bay has screenings on the first Friday of ever
 y month and people dress up in formal wear\, get raucous\, shout along and
  throw plastic spoons at the screen. This isn't numbers limited like a typ
 ical club event\, just buy your own ticket here The Room - An Orpheum Excl
 usive Event | Orpheum Cinema but\, if you also sign up here to this trip I
 'll make a group chat of people attending to organize lifts/activities bef
 orehand/anything else. Buy tickets folks it'll be super fun\, keen to have
  heaps of you there!
LOCATION:https://maps.app.goo.gl/XYH2oqNj6su54aio8
END:VEVENT
BEGIN:VTIMEZONE
TZID:Australia/Sydney
X-LIC-LOCATION:Australia/Sydney
BEGIN:DAYLIGHT
DTSTART:20231001T030000
TZOFFSETFROM:+1000
TZOFFSETTO:+1100
TZNAME:AEDT
END:DAYLIGHT
END:VTIMEZONE
END:VCALENDAR