BEGIN:VCALENDAR
VERSION:2.0
PRODID:-//wp-events-plugin.com//7.2.3.1//EN
TZID:Australia/Sydney
X-WR-TIMEZONE:Australia/Sydney
BEGIN:VEVENT
UID:2026@unswoc.org
DTSTART:20160610T130000Z
DTEND:20160612T130000Z
DTSTAMP:20160530T115340Z
URL:https://unswoc.org/wordpress/events/warrumbungles-trad-climbing/
SUMMARY:Warrumbungles Trad Climbing
DESCRIPTION:Next long weekend come to the awe inspiring Warrumbungles to cl
 imb long trad classics such as Flight of the Phoenix.\n\nIt is a few hours
  walk in to Bluff Mountain where we're headed and we'll be camping at Balo
 r Hut campground which is free. So you'll need camping gear and a pack to 
 carry it all. I'll find out if there's a water supply.\n\nYou'll need to b
 e able to lead 14+ trad and be confident multi-pitching as there are not m
 any single pitch routes. Should be great fun providing the weather is not 
 too cold!\n\nhttps://www.thecrag.com/climbing/australia/warrumbungles/area
 /11773375\n\n
CATEGORIES:Outdoor Climbing
END:VEVENT
END:VCALENDAR