BEGIN:VCALENDAR
VERSION:2.0
PRODID:-//wp-events-plugin.com//7.2.3.1//EN
TZID:Australia/Sydney
X-WR-TIMEZONE:Australia/Sydney
BEGIN:VEVENT
UID:2007@unswoc.org
DTSTART:20160422T070000Z
DTEND:20160425T110000Z
DTSTAMP:20160417T232342Z
URL:https://unswoc.org/wordpress/events/warrumbungles-climbing/
SUMMARY:Warrumbungles Climbing
DESCRIPTION:Come to the Warrumbungles this long weekend to climb long trad 
 classics such as Flight of the Phoenix with descriptions such as "Absolute
 ly classic\, possibly the best climb I have ever done. It's hard to find a
  thing wrong with this route."\n\nLeaving Friday night and back Monday nig
 ht after 3 days climbing. There is a few hours walk in to the Bluff Mounta
 in where we'll be headed so come equipped with camping gear and a pack to 
 carry it all. You'll get the most out of the trip if you can already lead 
 14+ trad and are confident multi-pitching as there are not many single pit
 ch routes. Should be great fun providing the weather is not too hot!\n\nht
 tps://www.thecrag.com/climbing/australia/warrumbungles/area/11773375\n\n\n
 \n&nbsp\;\n\n&nbsp\;
ATTACH;FMTTYPE=image/jpeg:https://unswoc.org/wordpress/wp-content/uploads/
 2016/04/flightofphoenix.jpg
CATEGORIES:Outdoor Climbing
END:VEVENT
END:VCALENDAR