BEGIN:VCALENDAR
VERSION:2.0
PRODID:-//wp-events-plugin.com//7.2.3.1//EN
TZID:Australia/Sydney
X-WR-TIMEZONE:Australia/Sydney
BEGIN:VEVENT
UID:2296@unswoc.org
DTSTART;VALUE=DATE:20181006
DTEND;VALUE=DATE:20181009
DTSTAMP:20181005T011452Z
URL:https://unswoc.org/wordpress/events/wander-namadgi-wilderness/
SUMMARY:A wander in the Namadgi Wilderness
DESCRIPTION:This is a hike to the Namadgi Wilderness area. There are no tra
 ils\, and it is pretty much untouched.\n\nThe aim is to walk from the Yank
 ee hat car park early Monday morning\, towards Mt Gudgenby\, and then alon
 g the granite ridge to the 3 peaks of Mt Namadgi\, Mt Burbidge\, and Mt Ke
 lly. We'll camp at licking hole creek\, a lovely high fen\, before descend
 ing by middle creek back to the car park for Sunday night. We'll drive bac
 k Monday morning\, with the option to stop over at my farm to meet some co
 ws and llamas.\n\nThis is not a beginners walk\, and it is also being orga
 nised very last minute. There will be lots of bush bashing\, and scramblin
 g\, lots of elevation gain\, and some rather unique views. You need to hav
 e all you're own gear and basically be self sufficient. That means:\n\n 	3
 L of water\n 	Food for two days\n 	Hiking clothes that cover your arms and
  legs\n 	A hat\n 	Down jacket\n 	Rain jacket\n 	Head torch with spare batt
 eries\n 	A beanie or buff\n 	Warm sleeping bag\n 	Sleeping mat\n 	Tent\n 	
 Maybe some hiking poles\n 	Good shoes with plenty of grip\n 	Camera/phone\
 n 	Warm socks\n 	Thermals\n 	First aid kit\n 	Cooking equipment\n
CATEGORIES:Hectic Hiking
END:VEVENT
END:VCALENDAR