BEGIN:VCALENDAR
VERSION:2.0
PRODID:-//wp-events-plugin.com//7.2.3.1//EN
TZID:Australia/Sydney
X-WR-TIMEZONE:Australia/Sydney
BEGIN:VEVENT
UID:3254@unswoc.org
DTSTART;TZID=Australia/Sydney;VALUE=DATE:20230506
DTEND;TZID=Australia/Sydney;VALUE=DATE:20230507
DTSTAMP:20230503T130124Z
URL:https://unswoc.org/wordpress/events/very-well-organised-trad-trip-to-p
 iddo-beginner-intermediate/
SUMMARY:Very well organised trad trip to Piddo (Beginner/Intermediate)
DESCRIPTION:Hey folks\,\n\nSarah and I are running a trad trip this Saturda
 y to Mt Piddington! You can find more info about the crag here: https: //w
 ww.thecrag.com/en/climbing/australia/blue-mountains/mount-piddington.\n\nY
 ou technically don't need any climbing experience to join\, but you'll get
  more out of the trip if you have some climbing experience (like lead clim
 bing and lead belaying) so you can learn more trad-specific skills. We'll 
 be setting up top ropes on routes for people to climb and letting people p
 ractice/learn placing trad gear\, and we'll be happy to teach other climbi
 ng skills as well.\n\nYou'll need to bring:\n\n 	Harness *\n 	Helmet *\n 	
 Climbing shoes *\n 	ATC + Locking carabiner *\n 	At least 2L water\n 	Lunc
 h + snacks\n 	Warm layers!! The mountains will be about 10 degrees colder 
 than Sydney!\n 	Sunscreen\n 	A suitable backpack and shoes for hiking in a
 nd out\n\n* These can be borrowed from the gear cupboard\, which is openi
 ng tomorrow (Thursday) from 5 - 6pm.\n\nIf you want to come along\, sign u
 p and leave a comment letting us know about your climbing experience\, whe
 ther you've got a car (and how many total seats) and any skills you want 
 to learn on the trip. If you've got any questions\, feel free to message S
 arah or I.\n\nSee you there!
CATEGORIES:Outdoor Climbing
END:VEVENT
BEGIN:VTIMEZONE
TZID:Australia/Sydney
X-LIC-LOCATION:Australia/Sydney
BEGIN:STANDARD
DTSTART:20230402T020000
TZOFFSETFROM:+1100
TZOFFSETTO:+1000
TZNAME:AEST
END:STANDARD
END:VTIMEZONE
END:VCALENDAR