BEGIN:VCALENDAR
VERSION:2.0
PRODID:-//wp-events-plugin.com//7.2.3.1//EN
TZID:Australia/Sydney
X-WR-TIMEZONE:Australia/Sydney
BEGIN:VEVENT
UID:3108@unswoc.org
DTSTART;TZID=Australia/Sydney:20221109T000000
DTEND;TZID=Australia/Sydney:20221109T000000
DTSTAMP:20221018T024351Z
URL:https://unswoc.org/wordpress/events/vertical-life-film-tour-3-discount
 ed-tickets/
SUMMARY:Vertical Life Film Tour 3 - Discounted Tickets!
DESCRIPTION:Each year we usually round up some club members for a fun eveni
 ng of climbing films at a local cinema when some festivals roll into town.
  This time its Vertical Life Film Tour 3\, from the same organisers as Ree
 l Rock\, and they've been kind enough to give us a discount code for cheap
  tickets. Expect an evening of inspirational\, action packed and hilarious
  climbing films\, guaranteed to have you planning your next climbing proje
 ct or trip.\n\n&nbsp\;\n\nHere's the trailer for this year's films!\n\n[em
 bed]https://youtu.be/_lZUXB5Z4fg[/embed]\n\n&nbsp\;\n\nAs for the discount
 ed tickets. Sign up to this event. Once you've been approved we'll add you
  to a Facebook messenger group for the secret discount code. The discount 
 code should give you access to $15 tickets!\n\n&nbsp\;\n\nThen take your p
 ick of the two screenings happening in November and book your tickets thro
 ugh the official eventbrite event. Note that these events usually sell out
  so capacity is limited.\n\n 	Roseville Cinema\, Roseville\, 4th November\
 , 8pm\n 	Chauvel Palace Cinema\, Paddington\, 9th Nov\, 7:30pm\n\nPlease n
 ote\, that the club has a soon to be announced event coming up on the 4th 
 of November\, so most of us will be heading to the Paddington screening so
  we can enjoy both these awesome events.\n\n&nbsp\;\n\nIf you have any que
 stions\, feel free to message me (Bennett Frerck) on Facebook.\n\n&nbsp\;\
 n\nSee you all there for a super fun evening.\n\n&nbsp\;
END:VEVENT
BEGIN:VTIMEZONE
TZID:Australia/Sydney
X-LIC-LOCATION:Australia/Sydney
BEGIN:DAYLIGHT
DTSTART:20221002T030000
TZOFFSETFROM:+1000
TZOFFSETTO:+1100
TZNAME:AEDT
END:DAYLIGHT
END:VTIMEZONE
END:VCALENDAR