BEGIN:VCALENDAR
VERSION:2.0
PRODID:-//wp-events-plugin.com//7.2.3.1//EN
TZID:Australia/Sydney
X-WR-TIMEZONE:Australia/Sydney
BEGIN:VEVENT
UID:387@unswoc.org
DTSTART:20140312T080000Z
DTEND:20140312T113000Z
DTSTAMP:20140227T225932Z
URL:https://unswoc.org/wordpress/events/uts-film-night/
SUMMARY:UTS Film Night
DESCRIPTION:I will be running a adventure movie night\, just a casual night
  then few beers after.\n\nI think the first movie I will play will be Don'
 t Blink - The Story of CWP.\nIt is a story about an Aussie climber\, Chris
  Webb Parsons\, one of our best.\nShould be good to see some inspiration f
 rom a fellow Aussie compared to the Euro's and Yanks haha.\n\nIt only runs
  for an hour\, so if we decide beers after or watch a smaller film I have 
 a few in mind we will see how we go.\n\nWhere:\nRoom: CB02.04.10\nWhich is
  in Level 4 of Building 2\, room 10.\n\nUse that lost on campus to find yo
 ur way\, but it pretty easy and I'll be standing around\n\nSo\,\nYeah come
  along for a bit inspiration\, hope to see you all there might turn it in
 to a regular thing like 3-4 months\n\nCheers\,\nJake.
CATEGORIES:Social Event
LOCATION:UTS \, Quay St\, Haymarket\, Australia
GEO:-33.880920;151.202866
X-APPLE-STRUCTURED-LOCATION;VALUE=URI;X-ADDRESS=Quay St\, Haymarket\, Austr
 alia;X-APPLE-RADIUS=100;X-TITLE=UTS :geo:-33.880920,151.202866
END:VEVENT
END:VCALENDAR