BEGIN:VCALENDAR
VERSION:2.0
PRODID:-//wp-events-plugin.com//7.2.3.1//EN
TZID:Australia/Sydney
X-WR-TIMEZONE:Australia/Sydney
BEGIN:VEVENT
UID:3510@unswoc.org
DTSTART;TZID=Australia/Sydney;VALUE=DATE:20241116
DTEND;TZID=Australia/Sydney;VALUE=DATE:20241117
DTSTAMP:20241114T203645Z
URL:https://unswoc.org/wordpress/events/upper-bowens-south-canyoning-inter
 mediate/
SUMMARY:FULL - Upper Bowens South - Canyoning [Intermediate]
DESCRIPTION:Matt\, Emily\, and I (Jason) will be running an intermediate ca
 nyoning trip through Upper Bowens South Canyon on the Saturday the 16th. C
 ome join us for a fun day in some high quality canyon!\n\nThis is a long d
 ay out (8+ hours) and it involves some cold swimming\, abseiling\, and lot
 s of walking! All participants must have experience abseiling and hiking. 
 Have a read of the track notes here.\n\n&nbsp\;\n\nPlease make you sure br
 ing ALL required gear.\n\nGear available to borrow from the club:\n\n 	Har
 ness\n 	Helmet\n 	3x locking carabiners\n 	1x Figure 8 / Descender\n 	1x S
 afety sling\n 	Drybag\n 	Wetsuit\n 	Backpack that can fit ALL your gear a
 nd that can get wet (30L+)\n\nOther gear you MUST bring:\n\n 	Clothing:\n
 \n 	Enclosed shoes with good grip\, suitable for water and bushwalking\n 
 	Wool or neoprene socks\n 	Boardshorts to wear on top of wetsuit (compul
 sory to protect the club wetsuits)\n 	Thermals and raincoat\n 	Swimmers fo
 r under wetsuit\n 	NO COTTON! (this includes socks\, shirts\, pants\, und
 ies\, etc)\n\n\n 	Food:\n\n 	2L of water\n 	Lunch\n 	Snacks to share (with
  me)\n\n\n 	Other:\n\n 	Medication (asthma puffer\, Epipen etc)\n 	Headto
 rch + spare batteries\n 	Emergency blanket – (can buy from Gear Cupboard
  for $5 or from chemists\, shops\, etc)\n\n\n\n&nbsp\;\n\nTo let me know y
 ou have read this far please tell me what your canyoning or abseiling/hiki
 ng experience is and the what your favourite snack is.\n\nBonus points if 
 you bring said favourite snack to share with me.\n\n&nbsp\;
LOCATION:https://maps.app.goo.gl/QFNQhnUsbtDDrSih7
END:VEVENT
BEGIN:VTIMEZONE
TZID:Australia/Sydney
X-LIC-LOCATION:Australia/Sydney
BEGIN:DAYLIGHT
DTSTART:20241006T030000
TZOFFSETFROM:+1000
TZOFFSETTO:+1100
TZNAME:AEDT
END:DAYLIGHT
END:VTIMEZONE
END:VCALENDAR