BEGIN:VCALENDAR
VERSION:2.0
PRODID:-//wp-events-plugin.com//7.2.3.1//EN
TZID:Australia/Sydney
X-WR-TIMEZONE:Australia/Sydney
BEGIN:VEVENT
UID:3320@unswoc.org
DTSTART;TZID=Australia/Sydney;VALUE=DATE:20230930
DTEND;TZID=Australia/Sydney;VALUE=DATE:20231001
DTSTAMP:20230926T110914Z
URL:https://unswoc.org/wordpress/events/upper-bowens-south-canyon-intermed
 iate-trip/
SUMMARY:Upper Bowens South Canyon (Intermediate trip)
DESCRIPTION:To make the most of the spring heat we've been having\, Angela 
 and I (Mali) have decided to run a canyon in place of a boulder trip this 
 coming Saturday.\n\nThe plan is to run down Upper Bowens South Canyon with
  a particular focus on practicing anchor rigging and other canyon practice
 s. With this in mind\, we're limiting to this trip to people who have some
  canyoning experience and are looking to learn self-sufficiency in the spo
 rt.\n\nThe canyon itself is a beauty\, but also moderately long\, so this 
 might be a long day - perhaps 7-10hrs in the canyon.\nYou can check out mo
 re of the canyon's details here: https://ozultimate.com/canyoning/track_no
 tes/bowens_creek_south.htm\n\n\n\nYou will need:\n\n 	To be keen and rea
 dy for a longish day\n 	A headtorch\n 	A dry bag\n 	A backpack to fit all 
 your gear and can get wet\n 	Wetsuit (preferably 5mm)\n 	Rain jacket\n 	Th
 ermals\n 	Wool socks\n 	Shoes with grip\n 	Helmet\n 	Harness\n 	Descender 
 (preferably an 8 style)\n 	Personal safety\n 	Prusik\n 	Locking Carabiners
  (4-5)\n 	An emergency blanket (can be bought from the gear cupboard - $5
 )\n 	Food and water\n\nIf you’re keen to join\, let us know which canyon
 s you've done before and what you're keen to practice!\n\n&nbsp\;
CATEGORIES:Canyoning
LOCATION:https://www.google.com/maps/place/Pierces+Pass+to+Blue+Gum+Forest+
 walking+track/@-33.5701887,150.3226475,14z/data=!4m6!3m5!1s0x6b1277778a050
 7ab:0x64fec2fd1df40ce3!8m2!3d-33.5701875!4d150.3383125!16s%2Fg%2F11p11b858
 y?entry=ttu
END:VEVENT
BEGIN:VTIMEZONE
TZID:Australia/Sydney
X-LIC-LOCATION:Australia/Sydney
BEGIN:STANDARD
DTSTART:20230402T020000
TZOFFSETFROM:+1100
TZOFFSETTO:+1000
TZNAME:AEST
END:STANDARD
END:VTIMEZONE
END:VCALENDAR