BEGIN:VCALENDAR
VERSION:2.0
PRODID:-//wp-events-plugin.com//7.2.3.1//EN
TZID:Australia/Sydney
X-WR-TIMEZONE:Australia/Sydney
BEGIN:VEVENT
UID:2209@unswoc.org
DTSTART;VALUE=DATE:20180118
DTEND;VALUE=DATE:20180119
DTSTAMP:20180115T100707Z
URL:https://unswoc.org/wordpress/events/upper-bowens-creek-south-canyon/
SUMMARY:Upper Bowens Creek South Canyon
DESCRIPTION:Going for a run down upper bowens creek south  supposed to be 
 a fun day out... I want to do it fast and light so if you need gear or are
  new to canyoning I wont accept you on the trip unfortunately... this is m
 ainly for insurance. ill be in the mountains already so unless you are cli
 mbing with me on Wednesday then you''ll need to make your own way up at le
 ast katoomba
CATEGORIES:Canyoning
END:VEVENT
END:VCALENDAR