BEGIN:VCALENDAR
VERSION:2.0
PRODID:-//wp-events-plugin.com//7.2.3.1//EN
TZID:Australia/Sydney
X-WR-TIMEZONE:Australia/Sydney
BEGIN:VEVENT
UID:3422@unswoc.org
DTSTART;TZID=Australia/Sydney:20240719T173000
DTEND;TZID=Australia/Sydney:20240719T213000
DTSTAMP:20240712T053820Z
URL:https://unswoc.org/wordpress/events/unswoc-x-utsoac-pubgaine-2024/
SUMMARY:UNSWOC x UTSOAC PUBGAINE 2024
DESCRIPTION:UNSWOC x UTSOAC Pubgaine 2024\nFriday July 19th\, 6:00pm\nUNSWO
 C Gear Cupboard\nStart is at UNSW Gear Cupboard (Sam Cracknell Pavilion) @
  6:30pm. Rego by 6:20pm.\n&nbsp\;\n\nA PUBGAINE! is a portmanteau of ‘Pu
 b-crawl’ and ‘Rogaine’. In the former\, good times are had. In the l
 atter teams of 4-6 race around to collect Control Points with the aid of m
 ap and compass. Combining these activities makes for a ludicrously good ti
 me!\n\nThe rules are simple. You must be 18+ and carry ID to participate. 
 Each team is given a map with a list of pubs marked on it. Each pub is wor
 th a designated number of point based roughly on the difficultly of reachi
 ng it. You are allowed to move by foot\, or on public transport\, but no c
 ars\, taxi’s\, bicycles\, skateboards\, rollerblades\, pogo sticks. Unic
 ycles are permitted. Team must remain together at all times\, splitting up
  to get to more pubs is a no-no.\n\nClick HERE to start forming teams!\n\n
 No Team? No worries. Add your name in the first column of the sheet. Other
 wise\, make sure to turn up at 5.45pm and we’ll get you sorted 🙂.\n\n
 \n\nBONUS POINTS:\n\n 	50 points – for each team with a new member who j
 oined the club less than 6 months ago. 50 points for the first member and 
 30 points for each additional person.\n 	50 points – for each team membe
 r wearing a helmet.\n 	40 points – for each team member wearing thermal 
 leggings and shorts on top.\n 	30 points – for each team member wearing 
 a harness.\n 	40 points for a team consisting of both UNSWOC and UTSOAC me
 mbers.\n 	20 points – for each team member carrying a compass around the
 ir neck.\n 	10 points – for each team member wearing a head torch.\n 	10
  points – for each team member who can present a space blanket at the fi
 nish line (used or unused).\n 	1.5 x points for each pub where every team 
 member drinks a beverage (alcoholic or non-alcoholic). Receipts must be pr
 ovided digitally.\n\nFor the 1.5 x points\, we are going digital this time
 . There will be a link and QR code on the answer sheet and you will need p
 hotographic evidence for points. You'll use the sheet to submit all you re
 ceipts so make sure your phone is charged!\n\n\n\nThe PUBGAINE! itself wil
 l begin at 6:30pm. There will be warm-up social time\, and registration fr
 om 5:30pm\, so come along at any time and to hang out and register. Rego w
 ill close at 6:20 before a mass start at 6:30. Maps will be handed out as 
 you register your team. All teams must be back at the Hash House - Victori
 a park Broadway - no later than 9:30\, and a 10 point penalty per minute l
 ate will given. If you cannot make it in time after work/uni\, you may joi
 n a team out on the course if you get them to register on your behalf.\n\n
 You are responsible for your actions at all times. UNSWOC and UTSOAC are n
 ot liable for any damage or injury sustained during the event. While havin
 g a good time is encouraged\, getting overly sloshed and becoming a nuisan
 ce is not. If however you do come across any troubles\, please contact mys
 elf (Amelia V) or Jemma. Let's all have a good night!\n\nIf you triumph ov
 er all other teams in the great battle\, you will win eternal glory\, and 
 a beer mug to commemorate this momentous occasion! As the reigning champio
 ns of the UNSWOC Pubgaine\, we wish UTSOAC good luck. See you at the finis
 h line!\n\n\n\nNote: Bonus points and other details may be subject to a fe
 w alterations in the coming days. Check back closer to the event date.\n\n
 Credit: this fabulous description was taken from David Vandermat's 2016 ev
 ent and all previous pubgaines - may we all aspire to have a similarly gre
 at event!
CATEGORIES:Social Event
LOCATION:https://maps.app.goo.gl/7P64eL4nkf5UoZoj8
END:VEVENT
BEGIN:VTIMEZONE
TZID:Australia/Sydney
X-LIC-LOCATION:Australia/Sydney
BEGIN:STANDARD
DTSTART:20240407T020000
TZOFFSETFROM:+1100
TZOFFSETTO:+1000
TZNAME:AEST
END:STANDARD
END:VTIMEZONE
END:VCALENDAR