BEGIN:VCALENDAR
VERSION:2.0
PRODID:-//wp-events-plugin.com//7.2.3.1//EN
TZID:Australia/Sydney
X-WR-TIMEZONE:Australia/Sydney
BEGIN:VEVENT
UID:2019@unswoc.org
DTSTART:20160510T063000Z
DTEND:20160510T103000Z
DTSTAMP:20160510T031407Z
URL:https://unswoc.org/wordpress/events/unswoc-movie-night/
SUMMARY:UNSWOC Movie Night
DESCRIPTION:Hello adventurers!\n\nWith winter fast approaching we're about 
 to slide our way in to the best time of the year for CLIMBING\, KAYAKING a
 nd of course BACKCOUNTRY SKIING/BOARDING!\nSo to get you all pumped for th
 e season we're going to show you some of the gnarliest films produced for 
 these sports!! And maybe some other sports that were just too cool not to 
 show.\n\nSo come and get pumped up with us! OR chilled down\, if you're ju
 st looking for an evening to break this study hell \;)\n\nFor more informa
 tion:\n\nhttps://www.facebook.com/events/248343912186302/
CATEGORIES:Social Event
END:VEVENT
END:VCALENDAR