BEGIN:VCALENDAR
VERSION:2.0
PRODID:-//wp-events-plugin.com//7.2.3.1//EN
TZID:Australia/Sydney
X-WR-TIMEZONE:Australia/Sydney
BEGIN:VEVENT
UID:2901@unswoc.org
DTSTART;TZID=Australia/Sydney;VALUE=DATE:20210501
DTEND;TZID=Australia/Sydney;VALUE=DATE:20210502
DTSTAMP:20210422T052859Z
URL:https://unswoc.org/wordpress/events/unswoc-goes-to-crag-care/
SUMMARY:UNSWOC goes to Crag Care
DESCRIPTION:It’s time to give back to some of the wonderful places that w
 e climb in. Access is no accident. We need to take care socially and envi
 ronmentally of the places that we are so lucky to use\, and crag care is o
 ne of the ways we can do this.\n\nIt will evolve hard physical labor\, dig
 ging\, carrying\, building\, sawing and much more to maintain the tracks t
 hat we use. Just view it as extra training!\n\nWe might even get a small c
 limb in at the end if we aren’t completely pooped.\n\nDont forget:\n\n- 
 sun protection\n\n- looooooooots of water\n\n- good shoes and gloves\n\n- 
 a good attitude\n\n&nbsp\;\n\nWrite me a comment as to why you want to com
 e. Sorry that spots are so extremely limited.\n\nSee you there!\n\n- Mira\
 n\n&nbsp\;\n\n(if you are curious about previous crag cares\, here is a tr
 ip report https://unswoc.org/wordpress/2017/08/07/crag-care-shipley-upper/
  )
ATTACH;FMTTYPE=image/jpeg:https://unswoc.org/wordpress/wp-content/uploads/
 2021/03/IMG20180303135820-1.jpg
END:VEVENT
BEGIN:VTIMEZONE
TZID:Australia/Sydney
X-LIC-LOCATION:Australia/Sydney
BEGIN:STANDARD
DTSTART:20210404T020000
TZOFFSETFROM:+1100
TZOFFSETTO:+1000
TZNAME:AEST
END:STANDARD
END:VTIMEZONE
END:VCALENDAR