BEGIN:VCALENDAR
VERSION:2.0
PRODID:-//wp-events-plugin.com//7.2.3.1//EN
TZID:Australia/Sydney
X-WR-TIMEZONE:Australia/Sydney
BEGIN:VEVENT
UID:2923@unswoc.org
DTSTART;TZID=Australia/Sydney;VALUE=DATE:20210829
DTEND;TZID=Australia/Sydney;VALUE=DATE:20210906
DTSTAMP:20210829T070343Z
URL:https://unswoc.org/wordpress/events/unswoc-geoguessr-adventure/
SUMMARY:UNSWOC GeoGuessr Adventure
DESCRIPTION:Hey friends\,\n\nAs a fun activity we have created a GeoGussr g
 ame with 5 UNSWOC favourite locations. Each of the locations are hand pick
 ed to represent one of the sports the club does\, some of these are very h
 ard and some are much easier. To keep the sprit please don't google while 
 playing\, just take your best guess. We will post the top scores but its a
 lso a great adventure so have fun and explore by clicking around to move\,
  panning and zoom.\n\n&nbsp\;\n\nFollow the link to play:\n\nhttps://www.g
 eoguessr.com/challenge/h2hJ7MemgN9B0k9G
END:VEVENT
BEGIN:VTIMEZONE
TZID:Australia/Sydney
X-LIC-LOCATION:Australia/Sydney
BEGIN:STANDARD
DTSTART:20210404T020000
TZOFFSETFROM:+1100
TZOFFSETTO:+1000
TZNAME:AEST
END:STANDARD
END:VTIMEZONE
END:VCALENDAR