BEGIN:VCALENDAR
VERSION:2.0
PRODID:-//wp-events-plugin.com//7.2.3.1//EN
TZID:Australia/Sydney
X-WR-TIMEZONE:Australia/Sydney
BEGIN:VEVENT
UID:2216@unswoc.org
DTSTART:20180309T200000Z
DTEND:20180310T060000Z
DTSTAMP:20180306T015643Z
URL:https://unswoc.org/wordpress/events/unswoc-crag-care/
SUMMARY:UNSWOC goes to Crag Care
DESCRIPTION:Hey Guys\,\n\nCrag Care is on this weekend and we've said we ca
 n muster up 5 volunteers! It's a great day out helping to maintain a local
  crag (TBC\, probably Shipley).\n\nMorning tea and lunch are provided\, yo
 u will need good shoes (preferably boots)\, hat and sunscreen\, water and 
 loads of enthusiasm.\n\nI can drive us up from Sydney on Saturday morning\
 , but I will be staying in the mountains so you'll need to catch the train
  back. Welcome to stay up if you're keen.\n\nOh and anyone who comes gets 
 a one-time use preferential treatment for any UNSWOC club trip being run t
 his semester!\n\nFor more info\, check out the trip report Vicky wrote: h
 ttp://unswoc.org/wordpress/2017/08/07/crag-care-shipley-upper/\n\nSee you 
 there!\n\n
CATEGORIES:Outdoor Climbing
END:VEVENT
END:VCALENDAR