BEGIN:VCALENDAR
VERSION:2.0
PRODID:-//wp-events-plugin.com//7.2.3.1//EN
TZID:Australia/Sydney
X-WR-TIMEZONE:Australia/Sydney
BEGIN:VEVENT
UID:3700@unswoc.org
DTSTART;TZID=Australia/Sydney:20251126T180000
DTEND;TZID=Australia/Sydney:20251126T230000
DTSTAMP:20251126T085838Z
URL:https://unswoc.org/wordpress/events/unswoc-awards-night-2025/
SUMMARY:UNSWOC Awards Night 2025
DESCRIPTION:UNSWOC Awards Night 2025\n6:00pm\, November 26th\nThe Forest Lo
 dge Hotel\nHey Everyone!\n\nAs another year of amazing outdoor adventures 
 draws to a close\, the annual UNSWOC Awards Night fast approaches.\nAwards
  night is a pub affair in which we gather in our finest formal wear to rec
 ognise and celebrate members who have excelled in their respective sports 
 and greatly contributed to the club.\n\n\n\nIt will be a jam-packed night 
 featuring:\n\n 	Socialising and mingling\n\n 	Arrive at the Forest Lodge H
 otel from 6pm on Wednesday the 26th and catch up with other members.\n 	Fo
 od will be provided! Please let us know of any dietary requirements you ha
 ve in the comments.\n\n\n 	Trivia\n\n 	The event will officially kick of a
 t 6:30pm with some outdoor themed trivia\, testing your knowledge of techn
 ical skills and fellow club members. There will be prizes!\n\n\n 	Beanie G
 rant Applications\n\n 	We'll hear from members applying for the UNSWOC Bea
 nie Grant\, and vote on which exciting trip the club will support.\n\n\n 	
 Photo Comp\n\n 	We will also be announcing the winners of the photo compet
 ition\, a showcase of snaps taken by our members over the last year\, acro
 ss a range of categories.\n 	VOTE FOR YOUR FAVOURITE PHOTOS HERE\n\n\n 	Vo
 ting for new Gear Officer\n\n 	Applicants for the committee position of Ge
 ar Officer will give a short pitch and the best candidate will be voted in
  by the club.\n\n\n 	Induction of new Life Members\n\n 	Life membership wi
 ll be granted to a few members of the club who have truly exemplified our 
 values and have gone above and beyond in their contributions to the club.\
 n\n\n 	Awards\n\n 	Finally\, the most anticipated item on the agenda. We'l
 l present awards to members who have been nomianted by their peers for the
 ir hard work and dedication to UNSWOC over the last 12 months. Winners wil
 l receive prizes provided by our sponsors\, including Macpac\, Mountain Eq
 uipment\, and Climbing Anchors.\n 	NOMINATE YOUR CLUB MEMBERS here\n\n\n\n
 \n\n\nPlease see below for info on the Photo Comp\, Awards\, Beanie Grant\
 , and Gear Officer Position.\n\nPHOTO COMPETITION SUBMISSIONS:\nIf you too
 k cool outdoors photos this year\, we want to see them! Whether they are I
 nstagram-perfect or funniest home video worthy\, there's a category for yo
 ur photo!\nPlease submit your photos here\, and make sure your submissions
  are in compliance with the size limits\, and adhere to the naming convent
 ions.\nSubmissions will close on the 16th of November and voting will com
 mence the next day.\n\nPhoto comp voting is open\, visit https://sudface.g
 ithub.io/photocomp25 to nominate your favourite pics!\n\nCLUB MEMBER AWARD
  NOMINATIONS:\nIf there's a club member you feel is worthy of recognition 
 for their achievements and contributions\, you can nominate them for an aw
 ard here.\nCategories include Teacher of the Year\, Newbie of the Year\, C
 limber/Canyoner/Caver of the Year.\nClub member award nominations will clo
 se on the 24th of November.\n\nBEANIE GRANT APPLICATIONS:\nBeanie Grant is
  a club initiative which helps members go on awesome trips by providing th
 em with financial support.\nTo find out more about it and what you can app
 ly for\, check out this page on the club website.\nYou can apply for the g
 rant by completing this form to tell us about your amazing idea for your t
 rip.\nThe deadline for applications is the 21st of November.\n\nOnce you'v
 e received approval for your application\, you can prepare your pitch!\nYo
 u will have 5 minutes (absolute maximum!!) to present your idea on Awards 
 Night and everyone will vote on the best proposal.\nFollowing this\, the w
 inner will finalise the details of their plan with the exec and set off on
  their adventure!\n\nGEAR OFFICER APPLICATIONS:\nWe need a new gear office
 r for the first half of 2026!\nIf you are interested in being a Gear Offic
 er for the club\, you can let us know in this form\, or send a message to 
 one of the exec.\nIf you want to know more about the role or you have any 
 questions\, you can read about it here or send a message to Rafferty O'Gra
 dy or Harry Meggs\, our current president and head gear officer.\n\n\n\nIN
  SUMMARY:\nWhen: 6pm on Wednesday the 26th of November\nWhere: The Forest
  Lodge Hotel\nWhat: Trivia! Awards! Prizes! And more!!\nDress Code: Formal
  Attire\nFood: Will be provided! Specify dietary requirements in your comm
 ent!\nWhat you need to do:\nSIGN UP TO THE EVENT!!\nGET SUBMITTING\, NOMIN
 ATING\, AND APPLYING!!!!\n\n\n\nIt will be a super fun night of free food\
 , catching up\, and celebrating the club!\n\nSee you there!!\n\n&nbsp\;
CATEGORIES:Social Event
LOCATION:https://www.google.com/maps/place/Forest+Lodge+Hotel/@-33.8839497,
 151.1820745,16z/data=!3m1!4b1!4m6!3m5!1s0x6b12b02a8dd388d1:0x94d40ce2401eb
 2fe!8m2!3d-33.8839542!4d151.1846494!16s%2Fg%2F1tpn2qpm?entry=ttu&g_ep=Egoy
 MDI1MTEwMi4wIKXMDSoASAFQAw%3D%3D
END:VEVENT
BEGIN:VTIMEZONE
TZID:Australia/Sydney
X-LIC-LOCATION:Australia/Sydney
BEGIN:DAYLIGHT
DTSTART:20251005T030000
TZOFFSETFROM:+1000
TZOFFSETTO:+1100
TZNAME:AEDT
END:DAYLIGHT
END:VTIMEZONE
END:VCALENDAR