BEGIN:VCALENDAR
VERSION:2.0
PRODID:-//wp-events-plugin.com//7.2.3.1//EN
TZID:Australia/Sydney
X-WR-TIMEZONE:Australia/Sydney
BEGIN:VEVENT
UID:3032@unswoc.org
DTSTART;TZID=Australia/Sydney:20220712T181500
DTEND;TZID=Australia/Sydney:20220712T210000
DTSTAMP:20220630T084749Z
URL:https://unswoc.org/wordpress/events/unswoc-annual-general-meeting/
SUMMARY:UNSWOC Annual General Meeting
DESCRIPTION:&nbsp\;\n\n\n\nHey all\,\n\nJoin us on Tuesday the 12th of July
  at 6:15pm at the Roundhouse on Campus for the annual UNSWOC AGM!\n\nWe'l
 l get to vote in the new exec\, play some fun games and have an all round 
 good time.\n\nFood and drink will be provided!\n\n&nbsp\;\n\nIf you're kee
 n to join the exec\, check out the various positions\n\nAnd feel free to f
 ill out an expression of interest form\n\nNo need to sign up to this event
 . We will be providing food for various dietary requirements but if you ha
 ve any requirements feel free to let us know in the signup comment below.\
 n\n&nbsp\;\n\nHope to see you all there!\n\n&nbsp\;
CATEGORIES:Social Event
END:VEVENT
BEGIN:VTIMEZONE
TZID:Australia/Sydney
X-LIC-LOCATION:Australia/Sydney
BEGIN:STANDARD
DTSTART:20220403T020000
TZOFFSETFROM:+1100
TZOFFSETTO:+1000
TZNAME:AEST
END:STANDARD
END:VTIMEZONE
END:VCALENDAR