BEGIN:VCALENDAR
VERSION:2.0
PRODID:-//wp-events-plugin.com//7.2.3.1//EN
TZID:Australia/Sydney
X-WR-TIMEZONE:Australia/Sydney
BEGIN:VEVENT
UID:3600@unswoc.org
DTSTART;TZID=Australia/Sydney:20250722T173000
DTEND;TZID=Australia/Sydney:20250722T203000
DTSTAMP:20250909T102402Z
URL:https://unswoc.org/wordpress/events/unswoc-annual-general-meeting-2025
 /
SUMMARY:UNSWOC Annual General Meeting 2025
DESCRIPTION:\nUNSWOC AGM 2025\n\nTuesday July 22nd\, 5:30pm\nUNSW Roundhous
 e\, Upstairs Function Room 3+4\n&nbsp\;\n\nJoin us on Tuesday 22nd of Jul
 y at the Roundhouse on Campus for the 2025 UNSWOC AGM!\n\n&nbsp\;\n\nArriv
 e at 5:30pm to grab some food and socialise with other members of the club
 .\n\nThe event will kick off at 6pm and we'll start by voting on some cons
 titutional amendments and listening to the president and treasurer update 
 us on what's been happening with the club in the last 12 months.\n\nFollow
 ing this\, we’ll vote hear from candidates for the new executive team an
 d then vote for each position.\n\nIf you’re keen to join the exec\, che
 ck out the various positions and fill out an expression of interest form
 \n\n&nbsp\;\n\nSnacks and drink will be provided – please sign up so we 
 can cater accordingly! Let us know in the signup comments if you have any 
 dietary requirements.\n\nHope to see you there!\n\nThe President's Annual 
 Report can be found here!\n\n\n\nJoining Online?\n[s2If is_user_logged_in(
 )]\n\nSudarshan (UNSWOC) is inviting you to a scheduled Zoom meeting.\nTop
 ic: UNSWOC 2025 AGM\nTime: Jul 22\, 2025 06:00 PM Sydney\nJoin at: https:/
 /unsw.zoom.us/j/83537214351?pwd=Okk5P5RJLvRzTfvXZBZibbcyIAi7va.1\nPassword
 : 123456\n\n[/s2If]\n\n[s2If !is_user_logged_in()]\n\nPlease log in to see
  the Zoom link.\n\n[/s2If]
CATEGORIES:Social Event
LOCATION:https://maps.app.goo.gl/LSULQcJd9wCSjBDZ6
END:VEVENT
BEGIN:VTIMEZONE
TZID:Australia/Sydney
X-LIC-LOCATION:Australia/Sydney
BEGIN:STANDARD
DTSTART:20250406T020000
TZOFFSETFROM:+1100
TZOFFSETTO:+1000
TZNAME:AEST
END:STANDARD
END:VTIMEZONE
END:VCALENDAR