BEGIN:VCALENDAR
VERSION:2.0
PRODID:-//wp-events-plugin.com//7.2.3.1//EN
TZID:Australia/Sydney
X-WR-TIMEZONE:Australia/Sydney
BEGIN:VEVENT
UID:3421@unswoc.org
DTSTART;TZID=Australia/Sydney:20240625T180000
DTEND;TZID=Australia/Sydney:20240625T200000
DTSTAMP:20240622T045631Z
URL:https://unswoc.org/wordpress/events/unswoc-annual-general-meeting-2024
 /
SUMMARY:UNSWOC Annual General Meeting 2024
DESCRIPTION:\n\nUNSWOC AGM 2024\n\nTuesday June 25th\, 6pm\nUNSW Roundhouse
 \, Function Room 3+4\n\n\nJoin us on Tuesday 25th of June at 6:00pm at th
 e Roundhouse on Campus for the 2024 UNSWOC AGM!\n\nWe’ll get to vote in 
 the new exec\, play some fun games and have an all round good time.\n\nSna
 cks and drink will be provided – please sign up so we can cater accordin
 gly!\n\nIf you’re keen to join the exec\, check out the various positio
 ns and fill out an expression of interest form\n\nLet us know in the sig
 nup comments if you have any dietary requirements.\n\nHope to see you ther
 e!\n\n
CATEGORIES:Social Event
LOCATION:https://maps.app.goo.gl/LLEWZEPyd7mmnRB37
END:VEVENT
BEGIN:VTIMEZONE
TZID:Australia/Sydney
X-LIC-LOCATION:Australia/Sydney
BEGIN:STANDARD
DTSTART:20240407T020000
TZOFFSETFROM:+1100
TZOFFSETTO:+1000
TZNAME:AEST
END:STANDARD
END:VTIMEZONE
END:VCALENDAR