BEGIN:VCALENDAR
VERSION:2.0
PRODID:-//wp-events-plugin.com//7.2.3.1//EN
TZID:Australia/Sydney
X-WR-TIMEZONE:Australia/Sydney
BEGIN:VEVENT
UID:3263@unswoc.org
DTSTART;TZID=Australia/Sydney:20230621T180000
DTEND;TZID=Australia/Sydney:20230621T210000
DTSTAMP:20230604T114955Z
URL:https://unswoc.org/wordpress/events/unswoc-annual-general-meeting-2023
 /
SUMMARY:UNSWOC Annual General Meeting 2023
DESCRIPTION:&nbsp\;\n\n\n\nJoin us on Wednesday 21st June at 6:00pm at the 
 Roundhouse on Campus for the 2023 UNSWOC AGM!\n\nWe'll get to vote in the 
 new exec\, play some fun games and have an all round good time.\n\nFood an
 d drink will be provided - please sign up so we can cater accordingly!\n\n
 If you're keen to join the exec\, check out the various positions and fill
  out an expression of interest form\n\nLet us know in the signup comments 
 if you have any dietary requirements.\n\nHope to see you there!
CATEGORIES:Social Event
END:VEVENT
BEGIN:VTIMEZONE
TZID:Australia/Sydney
X-LIC-LOCATION:Australia/Sydney
BEGIN:STANDARD
DTSTART:20230402T020000
TZOFFSETFROM:+1100
TZOFFSETTO:+1000
TZNAME:AEST
END:STANDARD
END:VTIMEZONE
END:VCALENDAR