BEGIN:VCALENDAR
VERSION:2.0
PRODID:-//wp-events-plugin.com//7.2.3.1//EN
TZID:Australia/Sydney
X-WR-TIMEZONE:Australia/Sydney
BEGIN:VEVENT
UID:2919@unswoc.org
DTSTART;TZID=Australia/Sydney:20210702T173000
DTEND;TZID=Australia/Sydney:20210702T213000
DTSTAMP:20210621T061739Z
URL:https://unswoc.org/wordpress/events/unswoc-2021-22-agm/
SUMMARY:UNSWOC 2021/22 AGM
DESCRIPTION:Hey all\,\n\n\nIt's finally time! The UNSWOC 2021/22 AGM is set
  for Friday the 2nd of July. We are booked for the function space at UNSW 
 David Phillips Sports field (just down the road from campus)\n\n\nLocation
 :\nhttps://goo.gl/maps/DFV4aFnJ3t8v3iGb7\n\n\nNOTE: just like all other ev
 ents\, signups on the UNSWOC event are needed:\ndetails to follow with lin
 k\n\n\nSignup preference will be given to those who have expressed interes
 t in running for a position. So if that's you fill out this quick survey. 
 Don't worry it doesn't lock you in to anything. Just gives us a vague idea
  of whose keen.\nExec Expression of Interest Form (google.com)\n\n\n\nThin
 gs to get excited about\n• Running for\, voting on and welcoming the new
  exec\n• Food\n• Maybe some good old fashioned UNSWOC Games - Covid gu
 ideline dependent\n• Sweet new merch - tshirts\, sports bras\, club card
 s\, beanies and even Hoodies!\n\n\nIf you have any questions let us know. 
 Otherwise please sign up on the unswoc website event too. Looking forward 
 to seeing you all there
ATTACH;FMTTYPE=image/jpeg:https://unswoc.org/wordpress/wp-content/uploads/
 2021/06/196397420_306233967874595_3849696514526403577_n.jpg
CATEGORIES:Social Event
END:VEVENT
BEGIN:VTIMEZONE
TZID:Australia/Sydney
X-LIC-LOCATION:Australia/Sydney
BEGIN:STANDARD
DTSTART:20210404T020000
TZOFFSETFROM:+1100
TZOFFSETTO:+1000
TZNAME:AEST
END:STANDARD
END:VTIMEZONE
END:VCALENDAR