BEGIN:VCALENDAR
VERSION:2.0
PRODID:-//wp-events-plugin.com//7.2.3.1//EN
TZID:Australia/Sydney
X-WR-TIMEZONE:Australia/Sydney
BEGIN:VEVENT
UID:2006@unswoc.org
DTSTART:20160505T073000Z
DTEND:20160505T103000Z
DTSTAMP:20160504T221921Z
URL:https://unswoc.org/wordpress/events/unsw-interclub-harbour-cruise/
SUMMARY:UNSW Interclub Harbour Cruise
DESCRIPTION:****BOOKINGS CLOSE MONDAY 8AM****\n\nHey adventurers!!\n\nSoooo
  it’s a little overdue now... but we’re finally telling you all to tak
 e a shower\, brush your hair\, file you’re broken fingernails and PUT ON
  A PAIR OF BLOODY NICE CLOTHES!!\n\nTHEN come CELEBRATE with us at the INT
 ERCLUB HARBOUR CRUUUUISE!!\n\nFor the first time EVER we are combining the
  forces of the UNSW Underwater Club\, Outdoors Club\, Waterski Society\, S
 ailing/Surfing and Windsurfing Club &amp\; Standup Paddle Boarding Club fo
 r AN EPIC INTERCLUB HARBOUR CRUISE!!\nNot a member of these clubs but don'
 t want to miss out? NEVER FEAR!! This event is open to anybody and everybo
 dy!! So invite your friends\, significant others or even your awesome gran
 dma if ya want!\n\n\nGAME PLAN AS FOLLOWS:\n\n– FIRSTLY\, ticket prices 
 are a measly $45 each. HOWEVER there is a $1.50 paypal fee. So let's just 
 make it $46.50. This price gets you UNLIMITED FOOD\, UNLIMITED ALCOHOL\, 
 A FRICKEN DJ\, AND A PHOTOGRAPHER!!!\n\nTheme is FORMAL. I wanna see you a
 ll as smaaancy as you can make it!! I mean\, how often do we do this?? I d
 on’t even want to recognise any of you!\nEDIT: If you don’t have forma
 l attire I’ll forgive you but only juuuust.\n\n– LEAVING from King St 
 Wharf – No. 8 at 6.30pm SHARP!! Definitely aim to get there 15 minutes e
 arly.\n\n– Then begins the cruise and the good times!!!\n\n– Cruise wi
 ll end at 9:30 when we will boogie on over to an after party venue – TBA
  later­\n\nAwesome. Cool. Have I convinced you yet? GREAT! Well follow th
 e link below and SIGN ON UP!\n\nYou can book up to 10 tickets so bring you
 r friends!\n\nHere's the facebook event\, join to keep up with the goings 
 on: https://www.facebook.com/events/1061102427295662/\n\nWHEN JOINING THI
 S EVENT PLEASE NOTE THE FOLLOWING:\n\n	The "Comment" box in the booking se
 ction can be used to write who the extra tickets are for. Or you can leav
 e it blank. The choice is yours!\n	You can buy up to 10 tickets\, so brin
 g your friends!.\n	You can pay by card or paypal.\n	IF (and ONLY if) you h
 ave a paypal receipt showing that you paid but your name is not on the lis
 t below then you should contact president@unswoc.org.\n	After paying and 
 returning to unswoc.org the website will give you an error:\n"ERROR: Unab
 le to verify $_SERVER["HTTP_HOST"]."\nThis is not a problem\, your payment
  and booking will still have gone through. You will receive a confirmation
  email.\n\nCheers\, Niels
CATEGORIES:Social Event
END:VEVENT
END:VCALENDAR