BEGIN:VCALENDAR
VERSION:2.0
PRODID:-//wp-events-plugin.com//7.2.3.1//EN
TZID:Australia/Sydney
X-WR-TIMEZONE:Australia/Sydney
BEGIN:VEVENT
UID:3786@unswoc.org
DTSTART;TZID=Australia/Sydney;VALUE=DATE:20260424
DTEND;TZID=Australia/Sydney;VALUE=DATE:20260425
DTSTAMP:20260416T032339Z
URL:https://unswoc.org/wordpress/events/unsw-campus-bioblitz-2026/
SUMMARY:🕊️🌻 UNSW Campus BioBlitz 🐦🌷 | 24th April 2026
DESCRIPTION:How much biodiversity actually occurs on campus? Which native s
 pecies do we walk past every day without really noticing?\n&nbsp\;\n\nHelp
  us explore and record biodiversity across campus! 🐦🕊️🌻🌷\n\n
 Join us in taking photos of all of the wonderful living things on campus a
 nd upload them to our iNaturalist project (https://inaturalist.ala.org.au/
 projects/unsw-kensington-campus-biodiversity) during the 24hr BioBlitz cha
 llenge. Whether you’re into birding or love looking for the smallest cri
 tters\, every observation counts! 🔎\n&nbsp\;\nCome and find our BioBlit
 z naturalists in front of the Bioscience Building on the day (between 12:
 30-3pm) for free snacks\, identification help and to learn more about the
  organisms you can find on campus.  For more information please contact 
 natalie.allen@unsw.edu.au\n\n\n\n\n\n\n\nThis event is organised by the UN
 SW Centre for Ecosystem Science\, in the School of Biological\, Earth and 
 Environmental Sciences.\nAnyone is welcome to participate\, and no signups
  are necessary. Just show up on the day!
ATTACH;FMTTYPE=image/jpeg:https://unswoc.org/wordpress/wp-content/uploads/
 2026/04/COMPRESSCampus-BioBlitz-Instagram-Square.jpg
CATEGORIES:Social Event
LOCATION:https://inaturalist.ala.org.au/projects/unsw-kensington-campus-bio
 diversity
END:VEVENT
BEGIN:VTIMEZONE
TZID:Australia/Sydney
X-LIC-LOCATION:Australia/Sydney
BEGIN:STANDARD
DTSTART:20260405T020000
TZOFFSETFROM:+1100
TZOFFSETTO:+1000
TZNAME:AEST
END:STANDARD
END:VTIMEZONE
END:VCALENDAR