BEGIN:VCALENDAR
VERSION:2.0
PRODID:-//wp-events-plugin.com//7.2.3.1//EN
TZID:Australia/Sydney
X-WR-TIMEZONE:Australia/Sydney
BEGIN:VEVENT
UID:2871@unswoc.org
DTSTART;TZID=Australia/Sydney:20210312T180000
DTEND;TZID=Australia/Sydney:20210312T230000
DTSTAMP:20210302T024158Z
URL:https://unswoc.org/wordpress/events/unsw-blues-dinner-and-sport-awards
 /
SUMMARY:UNSW Blues Dinner and Sport Awards
DESCRIPTION:UNSW Blues and Sports Awards Dinner: the fancier version of the
  UNSWOC awards night!\nWe are looking to organise 1-2 tables for the Dinne
 r (covers awards from both 2019 and 2020) which will be taking place at th
 e Randwick Racecourse on Friday 12th March from 6pm-11pm!\n\nThis is an op
 portunity not to be missed - the club will be subsidising half of the cost
  of the tickets but even more to the point\, the club has been shortlisted
  for a number of awards including:\n\n 	Club of the year\, 2019\n 	Admin o
 f the year (Maria)\, 2019\n 	Club of the year\, 2020\n 	Alex Blackwell Awa
 rd (Mira\, Maria &amp\; Jenny)\, 2020\n 	UNSW Sport Female Student of the 
 Year (Jenny)\, 2020\n\nThanks to the club\, the cost of tickets will be an
  extremely reasonable $37.5 for UNSW students (which includes anyone who g
 raduated 1 year ago) or $80 for non-students!\n\nIt should be a great nigh
 t\, especially if there's a good turn out from UNSWOC :D\n\nIf you're keen
  to come along and celebrate the hard work of the active club members\, tr
 ip leaders and exec of the club\, then sign up to this event on the club w
 ebsite. We'll then put together the tables and sort out payment from there
  :)\nIn the comments please include your email address (to receive the eve
 nt ticket) and any dietary requirements.\nFor more information check out t
 he webpage here: https://www.eventbrite.com.au/e/202021-unsw-blues-dinner-
 and-sport-awards-tickets-91930750349.
CATEGORIES:Social Event
END:VEVENT
BEGIN:VTIMEZONE
TZID:Australia/Sydney
X-LIC-LOCATION:Australia/Sydney
BEGIN:DAYLIGHT
DTSTART:20201004T030000
TZOFFSETFROM:+1000
TZOFFSETTO:+1100
TZNAME:AEDT
END:DAYLIGHT
END:VTIMEZONE
END:VCALENDAR