BEGIN:VCALENDAR
VERSION:2.0
PRODID:-//wp-events-plugin.com//7.2.3.1//EN
TZID:Australia/Sydney
X-WR-TIMEZONE:Australia/Sydney
BEGIN:VEVENT
UID:2463@unswoc.org
DTSTART;TZID=Australia/Sydney;VALUE=DATE:20190928
DTEND;TZID=Australia/Sydney;VALUE=DATE:20190930
DTSTAMP:20191112T050904Z
URL:https://unswoc.org/wordpress/events/unisport-nationals-for-orienteerin
 g-wagga-wagga/
SUMMARY:UniSport Nationals for Orienteering\, Wagga wagga
DESCRIPTION:Orienteering is another great way to test your nav. skills (and
  fitness!). The idea is to navigate from checkpoint to checkpoint across u
 nfamiliar terrain as fast as possible!\n\nThis year\, the UniSport Nationa
 ls for Orienteering will be held in Wagga Wagga (at Charles Sturt Universi
 ty) on 28th September as part of the Oceania Sprint Championships.\n\nAny
 one is welcome to come along and take part!\n\nEntry cost is $42 if you ar
 e 21years+\, or $30 if you are 20 or under and entries close 31st August (
 prices may vary for non-uni students). Once a car load of people has been 
 finalised to go down\, we'll sort out accommodation and race entry :)\n\nT
 he plan would likely be to drive down on Friday night and stay for the who
 le weekend to make the most of the drive.\n\nAny questions\, let me know!\
 n\nUseful websites:\n\nhttp://act.orienteering.asn.au/event-series/major-e
 vents/oceania-2019/entries/\n\nhttps://www.unisport.com.au/orienteering-di
 v1\n\n&nbsp\;\n\n\n\n&nbsp\;
CATEGORIES:Orienteering
END:VEVENT
BEGIN:VTIMEZONE
TZID:Australia/Sydney
X-LIC-LOCATION:Australia/Sydney
BEGIN:STANDARD
DTSTART:20190407T020000
TZOFFSETFROM:+1100
TZOFFSETTO:+1000
TZNAME:AEST
END:STANDARD
END:VTIMEZONE
END:VCALENDAR