BEGIN:VCALENDAR
VERSION:2.0
PRODID:-//wp-events-plugin.com//7.2.3.1//EN
TZID:Australia/Sydney
X-WR-TIMEZONE:Australia/Sydney
BEGIN:VEVENT
UID:745@unswoc.org
DTSTART:20150314T130000Z
DTEND:20150314T130000Z
DTSTAMP:20150310T012104Z
URL:https://unswoc.org/wordpress/events/twisterrocky-sunday-boree-log/
SUMMARY:(TRIP FULL) Beginner's Canyon - Twister/Rocky - Sunday - Boree Log
DESCRIPTION:Hey Everyone!\n\nI will be running Twister &amp\; Rocky Creek C
 anyon the Sunday of Boree Log. It will be wet\, with jumps and slides and 
 no abseils!\n\n\nLOWDOWN\n\nTo get an idea of how things will work and the
  logistics of how to end up in dry underwear:\n\nWe will organise cars the
  Sunday morning (Please message me if you have a car) and will go straight
  home after the canyon (not back to the Boree Campsite).\n\nThere’s a sh
 ort hike to the canyon\, you need a backpack to hold wetsuit\, lunch\, wat
 er\, harness etc.\nWhen we get to it’s start we change into wetsuits and
  harnesses with board shorts over the wetsuit to protect it (and swimmers 
 or undies you were already wearing under the wetsuit if you are modest lik
 e me :p)\nYou put dry stuff like your shirt into dry bags (which have your
  lunch in them) and put your helmets on.\n\nWe then go through the awesome
  waterland of the canyon\, swims\, jumps\, slides and stopping somewhere f
 or lunch. Keep snacks and water handy (Or just drink the canyon water\, I 
 hear it’s fine…)\n\nAt the very end we change out of wetsuits back int
 o the dry shirt/clothes (boardies and undies/swimmers will still be wet th
 ough!) to hike back.\nThen hopefully you left dry bottoms/shorts/undies in
  the car and you can change back into them then. Thongs are a must too\, f
 or happiness.\n\nGEAR LIST\n\n\nGear that can be borrowed/hired from the C
 LUB (On Wednesday Gear Nights @Sam Cracknell):\n\n	Wetsuit (and swimmers):
  There will be a limited supply of club wetsuits Sunday morning\, borrow a
  wetsuit from a friend\, or check out second hand stores and gumtree or hi
 re from surf shops.\nWear swimmers or undies under the wetsuit (your own n
 ot clubs :P) if your modest while changing like me and you must wear boar
 dies over the wetsuit to protect it.\n	Helmet: All can be borrowed from th
 e club Sunday morning on Boree\n\nGear you’ll need to borrow/obtain YOUR
 SELF:\n\n	Woolen Socks and Enclosed shoes: Shoes that can get wet. Volleys
  (are the best) or old joggers. NO SANDALS OR THONGS we will have you wait
  in the car all day. Places like target and bigW sell volleys for around $
 20 or $10 if you have kid sized feet \n	At least 1.5L Water\, snacks and l
 unch: Muesli Bars are cool because they come in their own waterproof wrapp
 ing!\n	Backpack and dry bag: Bring a backpack that you don’t mind gettin
 g wet\, and one that can also hold your wetsuit\, at least 1.5L of water a
 nd your drybag which will hold lunch/snacks and some dry clothes.\nDrybags
  are waterproof bags that go in your backpack\, there’s usually space to
  share one between two but ask around first to make sure. Or they’re abo
 ut $10 in mountain designs\n	Torch: A torch must be brought in your dry ba
 g in the unlikely scenario we run out of sunlight\n	Dry clothes: To leave 
 in the car to change into after the canyon. You can also keep thermals in 
 your dry bag to change into for the hike out or in case of emergency.\n\n&
 nbsp\;\n\nSo I hope it helps prepare you! Feel free to ask anything no mat
 ter how silly you think it might sound \n\nCheers\,\n\nBrendan
ATTACH;FMTTYPE=image/jpeg:https://unswoc.org/wordpress/wp-content/uploads/
 2015/03/P3162481.jpg
CATEGORIES:Boree Log,Canyoning
LOCATION:\, \, 
X-APPLE-STRUCTURED-LOCATION;VALUE=URI;X-ADDRESS=\, ;X-APPLE-RADIUS=100;X-TI
 TLE=:geo:0,0
END:VEVENT
END:VCALENDAR