BEGIN:VCALENDAR
VERSION:2.0
PRODID:-//wp-events-plugin.com//7.2.3.1//EN
TZID:Australia/Sydney
X-WR-TIMEZONE:Australia/Sydney
BEGIN:VEVENT
UID:2093@unswoc.org
DTSTART;VALUE=DATE:20161113
DTEND;VALUE=DATE:20161114
DTSTAMP:20161112T044857Z
URL:https://unswoc.org/wordpress/events/twisterrocky-creek/
SUMMARY:Twister/Rocky Creek
DESCRIPTION:Hey\,\n\nAidan and I are leading Twister and Rocky creek canyon
 s on Sunday. You're welcome to come. (I know it's super late notice but I 
 was busy.) It involves rock jumps\, swims and some rock slides (but no abs
 eils).\n\nYou will need:\n\n	a wetsuit\n	a drybag (I between 2 is fine)\n	
 a backpack\n	lunch and 3L of water\n	a helmet\n	enclosed shoes you don't m
 ind getting dirty (e.g. old runners)\n	board shorts or other disposable sh
 orts to protect the bottom of your wetsuit\n	woollen socks\, or synthetic 
 (not cotton)\n\nAlso you'll need to be able to swim.\n\nIt's a three hour 
 drive from Sydney so we'll be waking up somewhat early and meeting at uni\
 n\nIt's open to beginners and gets a 10/10 on ozultimate\, not too shabby\
 n\nhttp://ozultimate.com/canyoning/track_notes/rocky_creek.htm\n\nDion.
CATEGORIES:Canyoning
END:VEVENT
END:VCALENDAR